BEGIN:VCALENDAR
VERSION:2.0
PRODID:-//Sewing Seeds Quilt Co. - ECPv6.15.20//NONSGML v1.0//EN
CALSCALE:GREGORIAN
METHOD:PUBLISH
X-ORIGINAL-URL:https://sewingseedsquiltco.com
X-WR-CALDESC:Events for Sewing Seeds Quilt Co.
REFRESH-INTERVAL;VALUE=DURATION:PT1H
X-Robots-Tag:noindex
X-PUBLISHED-TTL:PT1H
BEGIN:VTIMEZONE
TZID:America/Chicago
BEGIN:DAYLIGHT
TZOFFSETFROM:-0600
TZOFFSETTO:-0500
TZNAME:CDT
DTSTART:20230312T080000
END:DAYLIGHT
BEGIN:STANDARD
TZOFFSETFROM:-0500
TZOFFSETTO:-0600
TZNAME:CST
DTSTART:20231105T070000
END:STANDARD
BEGIN:DAYLIGHT
TZOFFSETFROM:-0600
TZOFFSETTO:-0500
TZNAME:CDT
DTSTART:20240310T080000
END:DAYLIGHT
BEGIN:STANDARD
TZOFFSETFROM:-0500
TZOFFSETTO:-0600
TZNAME:CST
DTSTART:20241103T070000
END:STANDARD
BEGIN:DAYLIGHT
TZOFFSETFROM:-0600
TZOFFSETTO:-0500
TZNAME:CDT
DTSTART:20250309T080000
END:DAYLIGHT
BEGIN:STANDARD
TZOFFSETFROM:-0500
TZOFFSETTO:-0600
TZNAME:CST
DTSTART:20251102T070000
END:STANDARD
BEGIN:DAYLIGHT
TZOFFSETFROM:-0600
TZOFFSETTO:-0500
TZNAME:CDT
DTSTART:20260308T080000
END:DAYLIGHT
BEGIN:STANDARD
TZOFFSETFROM:-0500
TZOFFSETTO:-0600
TZNAME:CST
DTSTART:20261101T070000
END:STANDARD
END:VTIMEZONE
BEGIN:VEVENT
DTSTART;TZID=America/Chicago:20241111T180000
DTEND;TZID=America/Chicago:20241111T190000
DTSTAMP:20260423T123944
CREATED:20240812T202444Z
LAST-MODIFIED:20241104T215114Z
UID:28242-1731348000-1731351600@sewingseedsquiltco.com
SUMMARY:Let's Make a Snowman BOM (New Date)
DESCRIPTION:
URL:https://sewingseedsquiltco.com/event/lets-make-a-snowman-bom-3/
CATEGORIES:BOM
END:VEVENT
BEGIN:VEVENT
DTSTART;TZID=America/Chicago:20241120T133000
DTEND;TZID=America/Chicago:20241120T143000
DTSTAMP:20260423T123944
CREATED:20240812T202523Z
LAST-MODIFIED:20240812T202523Z
UID:28244-1732109400-1732113000@sewingseedsquiltco.com
SUMMARY:Wind Song BOM
DESCRIPTION:
URL:https://sewingseedsquiltco.com/event/wind-song-bom-3/
CATEGORIES:BOM
END:VEVENT
BEGIN:VEVENT
DTSTART;TZID=America/Chicago:20241125T180000
DTEND;TZID=America/Chicago:20241125T190000
DTSTAMP:20260423T123944
CREATED:20240812T202635Z
LAST-MODIFIED:20240812T202635Z
UID:28248-1732557600-1732561200@sewingseedsquiltco.com
SUMMARY:Mary Katherine's Pride Wool BOM
DESCRIPTION:
URL:https://sewingseedsquiltco.com/event/mary-katherines-pride-wool-bom-9/
CATEGORIES:BOM
END:VEVENT
BEGIN:VEVENT
DTSTART;TZID=America/Chicago:20241127T133000
DTEND;TZID=America/Chicago:20241127T143000
DTSTAMP:20260423T123944
CREATED:20240812T203023Z
LAST-MODIFIED:20240812T203023Z
UID:28256-1732714200-1732717800@sewingseedsquiltco.com
SUMMARY:Piecemaker's Sampler BOM
DESCRIPTION:
URL:https://sewingseedsquiltco.com/event/piecemakers-sampler-bom-7/
CATEGORIES:BOM
END:VEVENT
BEGIN:VEVENT
DTSTART;TZID=America/Chicago:20241216T180000
DTEND;TZID=America/Chicago:20241216T190000
DTSTAMP:20260423T123944
CREATED:20240909T204519Z
LAST-MODIFIED:20240909T204519Z
UID:28356-1734372000-1734375600@sewingseedsquiltco.com
SUMMARY:Let's Make a Snowman
DESCRIPTION:
URL:https://sewingseedsquiltco.com/event/lets-make-a-snowman/
CATEGORIES:BOM
END:VEVENT
BEGIN:VEVENT
DTSTART;TZID=America/Chicago:20241218T133000
DTEND;TZID=America/Chicago:20241218T143000
DTSTAMP:20260423T123944
CREATED:20240909T204701Z
LAST-MODIFIED:20240909T204701Z
UID:28360-1734528600-1734532200@sewingseedsquiltco.com
SUMMARY:Wind Song BOM
DESCRIPTION:
URL:https://sewingseedsquiltco.com/event/wind-song-bom-4/
CATEGORIES:BOM
END:VEVENT
BEGIN:VEVENT
DTSTART;TZID=America/Chicago:20250120T180000
DTEND;TZID=America/Chicago:20250120T190000
DTSTAMP:20260423T123944
CREATED:20240909T205824Z
LAST-MODIFIED:20240909T205824Z
UID:28378-1737396000-1737399600@sewingseedsquiltco.com
SUMMARY:Let's Make a Snowman
DESCRIPTION:
URL:https://sewingseedsquiltco.com/event/lets-make-a-snowman-2/
CATEGORIES:BOM
END:VEVENT
BEGIN:VEVENT
DTSTART;TZID=America/Chicago:20250122T133000
DTEND;TZID=America/Chicago:20250122T143000
DTSTAMP:20260423T123944
CREATED:20240909T205934Z
LAST-MODIFIED:20240909T205934Z
UID:28382-1737552600-1737556200@sewingseedsquiltco.com
SUMMARY:Piecemaker's Sampler
DESCRIPTION:
URL:https://sewingseedsquiltco.com/event/piecemakers-sampler/
CATEGORIES:BOM
END:VEVENT
BEGIN:VEVENT
DTSTART;TZID=America/Chicago:20250217T180000
DTEND;TZID=America/Chicago:20250217T190000
DTSTAMP:20260423T123944
CREATED:20241221T195939Z
LAST-MODIFIED:20241221T195939Z
UID:28590-1739815200-1739818800@sewingseedsquiltco.com
SUMMARY:Let's Make a Snowman
DESCRIPTION:
URL:https://sewingseedsquiltco.com/event/lets-make-a-snowman-3/
CATEGORIES:BOM
END:VEVENT
BEGIN:VEVENT
DTSTART;TZID=America/Chicago:20250220T133000
DTEND;TZID=America/Chicago:20250220T143000
DTSTAMP:20260423T123944
CREATED:20241221T200018Z
LAST-MODIFIED:20250218T220521Z
UID:28592-1740058200-1740061800@sewingseedsquiltco.com
SUMMARY:Scatter Garden BOM
DESCRIPTION:featuring the Scrap Basket Favorite Collection by Kim Diehl for Henry Glass Fabrics \nincludes pattern\, fabric for quilt top and binding \nfinished size 66.5″ x 66.5″ \ncall 507-354-8801 for additional BOM information \n 
URL:https://sewingseedsquiltco.com/event/scatter-garden-bom/
CATEGORIES:BOM
ATTACH;FMTTYPE=image/webp:https://sewingseedsquiltco.com/wp-content/uploads/2024/12/scatter-garden.webp
END:VEVENT
BEGIN:VEVENT
DTSTART;VALUE=DATE:20250224
DTEND;VALUE=DATE:20250225
DTSTAMP:20260423T123944
CREATED:20250218T205946Z
LAST-MODIFIED:20250218T210228Z
UID:28894-1740355200-1740441599@sewingseedsquiltco.com
SUMMARY:Enchanted Garden Wool BOM 1:30-2:30PM & 6:00-7:00PM
DESCRIPTION:
URL:https://sewingseedsquiltco.com/event/enchanted-garden-wool-bom-130pm-600pm/
CATEGORIES:BOM
END:VEVENT
BEGIN:VEVENT
DTSTART;VALUE=DATE:20250308
DTEND;VALUE=DATE:20250309
DTSTAMP:20260423T123944
CREATED:20250218T210649Z
LAST-MODIFIED:20250218T210649Z
UID:28900-1741392000-1741478399@sewingseedsquiltco.com
SUMMARY:Saturday Sampler 10:00AM & 1:00PM
DESCRIPTION:
URL:https://sewingseedsquiltco.com/event/saturday-sampler-1000am-100pm-10/
CATEGORIES:BOM
END:VEVENT
BEGIN:VEVENT
DTSTART;TZID=America/Chicago:20250317T180000
DTEND;TZID=America/Chicago:20250317T190000
DTSTAMP:20260423T123944
CREATED:20250218T210730Z
LAST-MODIFIED:20250218T210730Z
UID:28902-1742234400-1742238000@sewingseedsquiltco.com
SUMMARY:Flower Basket Sampler Sew Along
DESCRIPTION:
URL:https://sewingseedsquiltco.com/event/flower-basket-sampler-sew-along/
CATEGORIES:BOM
END:VEVENT
BEGIN:VEVENT
DTSTART;TZID=America/Chicago:20250320T133000
DTEND;TZID=America/Chicago:20250320T143000
DTSTAMP:20260423T123944
CREATED:20250218T210830Z
LAST-MODIFIED:20250218T220554Z
UID:28906-1742477400-1742481000@sewingseedsquiltco.com
SUMMARY:Scatter Garden BOM
DESCRIPTION:featuring the Scrap Basket Favorite Collection by Kim Diehl for Henry Glass Fabrics \nincludes pattern\, fabric for quilt top and binding \nfinished size 66.5″ x 66.5″ \ncall 507-354-8801 for additional BOM information
URL:https://sewingseedsquiltco.com/event/scatter-garden-bom-2/
CATEGORIES:BOM
ATTACH;FMTTYPE=image/webp:https://sewingseedsquiltco.com/wp-content/uploads/2024/12/scatter-garden.webp
END:VEVENT
BEGIN:VEVENT
DTSTART;VALUE=DATE:20250324
DTEND;VALUE=DATE:20250325
DTSTAMP:20260423T123944
CREATED:20250218T210918Z
LAST-MODIFIED:20250218T210918Z
UID:28908-1742774400-1742860799@sewingseedsquiltco.com
SUMMARY:Enchanted Garden Wool BOM 1:30-2:30PM & 6:00-7:00PM
DESCRIPTION:
URL:https://sewingseedsquiltco.com/event/enchanted-garden-wool-bom-130-230pm-600-700pm/
CATEGORIES:BOM
END:VEVENT
BEGIN:VEVENT
DTSTART;VALUE=DATE:20250412
DTEND;VALUE=DATE:20250413
DTSTAMP:20260423T123944
CREATED:20250218T211005Z
LAST-MODIFIED:20250218T211005Z
UID:28910-1744416000-1744502399@sewingseedsquiltco.com
SUMMARY:Saturday Sampler 10:00AM & 1:00PM
DESCRIPTION:
URL:https://sewingseedsquiltco.com/event/saturday-sampler-1000am-100pm-11/
CATEGORIES:BOM
END:VEVENT
BEGIN:VEVENT
DTSTART;TZID=America/Chicago:20250416T133000
DTEND;TZID=America/Chicago:20250416T143000
DTSTAMP:20260423T123944
CREATED:20250218T211053Z
LAST-MODIFIED:20250218T211053Z
UID:28912-1744810200-1744813800@sewingseedsquiltco.com
SUMMARY:Stormy Sea BOM
DESCRIPTION:
URL:https://sewingseedsquiltco.com/event/stormy-sea-bom/
CATEGORIES:BOM
END:VEVENT
BEGIN:VEVENT
DTSTART;TZID=America/Chicago:20250417T133000
DTEND;TZID=America/Chicago:20250417T143000
DTSTAMP:20260423T123944
CREATED:20250218T211126Z
LAST-MODIFIED:20250218T220630Z
UID:28914-1744896600-1744900200@sewingseedsquiltco.com
SUMMARY:Scatter Garden BOM
DESCRIPTION:featuring the Scrap Basket Favorite Collection by Kim Diehl for Henry Glass Fabrics \nincludes pattern\, fabric for quilt top and binding \nfinished size 66.5″ x 66.5″ \ncall 507-354-8801 for additional BOM information
URL:https://sewingseedsquiltco.com/event/scatter-garden-bom-3/
CATEGORIES:BOM
ATTACH;FMTTYPE=image/webp:https://sewingseedsquiltco.com/wp-content/uploads/2024/12/scatter-garden.webp
END:VEVENT
BEGIN:VEVENT
DTSTART;TZID=America/Chicago:20250421T180000
DTEND;TZID=America/Chicago:20250421T190000
DTSTAMP:20260423T123944
CREATED:20250218T211237Z
LAST-MODIFIED:20250218T211237Z
UID:28918-1745258400-1745262000@sewingseedsquiltco.com
SUMMARY:Flower Basket Sampler
DESCRIPTION:
URL:https://sewingseedsquiltco.com/event/flower-basket-sampler/
CATEGORIES:BOM
END:VEVENT
BEGIN:VEVENT
DTSTART;TZID=America/Chicago:20250423T133000
DTEND;TZID=America/Chicago:20250423T143000
DTSTAMP:20260423T123944
CREATED:20250218T211310Z
LAST-MODIFIED:20250218T213711Z
UID:28920-1745415000-1745418600@sewingseedsquiltco.com
SUMMARY:Gentry's Mill BOM
DESCRIPTION:fabric and BOM by Lynn Wilder for Marcus Fabrics \nincludes pattern\, fabric for quilt top and binding \nfinished size 92 x 92 \ncall 507-354-8801 for additional BOM information
URL:https://sewingseedsquiltco.com/event/gentrys-mill-bom/
CATEGORIES:BOM
ATTACH;FMTTYPE=image/jpeg:https://sewingseedsquiltco.com/wp-content/uploads/2025/02/GENTRY-S-MILL-BOM-QUILT.jpg
END:VEVENT
BEGIN:VEVENT
DTSTART;TZID=America/Chicago:20250424T133000
DTEND;TZID=America/Chicago:20250424T143000
DTSTAMP:20260423T123944
CREATED:20250218T211345Z
LAST-MODIFIED:20250218T221535Z
UID:28922-1745501400-1745505000@sewingseedsquiltco.com
SUMMARY:Carolina's Legacy BOM
DESCRIPTION:featuring the Carolina collection by Jo Morton for Andover Fabrics \nincludes pattern\, fabric for quilt top and binding \nfinished size 90″ x 90″ \ncall 507-354-8801 for additional BOM information
URL:https://sewingseedsquiltco.com/event/carolinas-legacy-bom/
CATEGORIES:BOM
ATTACH;FMTTYPE=image/jpeg:https://sewingseedsquiltco.com/wp-content/uploads/2025/02/Carolina-Legacy-BOM.jpg
END:VEVENT
BEGIN:VEVENT
DTSTART;VALUE=DATE:20250428
DTEND;VALUE=DATE:20250429
DTSTAMP:20260423T123944
CREATED:20250218T211427Z
LAST-MODIFIED:20250218T211427Z
UID:28924-1745798400-1745884799@sewingseedsquiltco.com
SUMMARY:Enchanted Garden Wool BOM 1:30-2:30PM & 6:00-7:00PM
DESCRIPTION:
URL:https://sewingseedsquiltco.com/event/enchanted-garden-wool-bom-130-230pm-600-700pm-2/
CATEGORIES:BOM
END:VEVENT
BEGIN:VEVENT
DTSTART;VALUE=DATE:20250510
DTEND;VALUE=DATE:20250511
DTSTAMP:20260423T123944
CREATED:20250218T211710Z
LAST-MODIFIED:20250218T211710Z
UID:28928-1746835200-1746921599@sewingseedsquiltco.com
SUMMARY:Saturday Sampler 10:00AM & 1:00PM
DESCRIPTION:
URL:https://sewingseedsquiltco.com/event/saturday-sampler-1000am-100pm-12/
CATEGORIES:BOM
END:VEVENT
BEGIN:VEVENT
DTSTART;VALUE=DATE:20250512
DTEND;VALUE=DATE:20250513
DTSTAMP:20260423T123944
CREATED:20250409T215144Z
LAST-MODIFIED:20250409T215144Z
UID:29527-1747008000-1747094399@sewingseedsquiltco.com
SUMMARY:Enchanted Garden BOM 1:30PM & 6:00PM
DESCRIPTION:
URL:https://sewingseedsquiltco.com/event/enchanted-garden-bom-130pm-600pm/
CATEGORIES:BOM
END:VEVENT
BEGIN:VEVENT
DTSTART;TZID=America/Chicago:20250515T133000
DTEND;TZID=America/Chicago:20250515T143000
DTSTAMP:20260423T123944
CREATED:20250218T211749Z
LAST-MODIFIED:20250218T220657Z
UID:28930-1747315800-1747319400@sewingseedsquiltco.com
SUMMARY:Scatter Garden BOM
DESCRIPTION:featuring the Scrap Basket Favorite Collection by Kim Diehl for Henry Glass Fabrics \nincludes pattern\, fabric for quilt top and binding \nfinished size 66.5″ x 66.5″ \ncall 507-354-8801 for additional BOM information
URL:https://sewingseedsquiltco.com/event/scatter-garden-bom-4/
CATEGORIES:BOM
ATTACH;FMTTYPE=image/webp:https://sewingseedsquiltco.com/wp-content/uploads/2024/12/scatter-garden.webp
END:VEVENT
BEGIN:VEVENT
DTSTART;TZID=America/Chicago:20250519T180000
DTEND;TZID=America/Chicago:20250519T190000
DTSTAMP:20260423T123944
CREATED:20250218T211821Z
LAST-MODIFIED:20250218T211821Z
UID:28932-1747677600-1747681200@sewingseedsquiltco.com
SUMMARY:Flower Basket Sampler
DESCRIPTION:
URL:https://sewingseedsquiltco.com/event/flower-basket-sampler-2/
CATEGORIES:BOM
END:VEVENT
BEGIN:VEVENT
DTSTART;TZID=America/Chicago:20250521T133000
DTEND;TZID=America/Chicago:20250521T143000
DTSTAMP:20260423T123944
CREATED:20250218T212001Z
LAST-MODIFIED:20250218T212001Z
UID:28936-1747834200-1747837800@sewingseedsquiltco.com
SUMMARY:Stormy Sea BOM
DESCRIPTION:
URL:https://sewingseedsquiltco.com/event/stormy-sea-bom-2/
CATEGORIES:BOM
END:VEVENT
BEGIN:VEVENT
DTSTART;TZID=America/Chicago:20250522T133000
DTEND;TZID=America/Chicago:20250522T143000
DTSTAMP:20260423T123944
CREATED:20250218T212050Z
LAST-MODIFIED:20250218T221610Z
UID:28938-1747920600-1747924200@sewingseedsquiltco.com
SUMMARY:Carolina Legacy BOM
DESCRIPTION:featuring the Carolina collection by Jo Morton for Andover Fabrics \nincludes pattern\, fabric for quilt top and binding \nfinished size 90″ x 90″ \ncall 507-354-8801 for additional BOM information
URL:https://sewingseedsquiltco.com/event/carolina-legacy-bom/
CATEGORIES:BOM
ATTACH;FMTTYPE=image/jpeg:https://sewingseedsquiltco.com/wp-content/uploads/2025/02/Carolina-Legacy-BOM.jpg
END:VEVENT
BEGIN:VEVENT
DTSTART;TZID=America/Chicago:20250528T133000
DTEND;TZID=America/Chicago:20250528T143000
DTSTAMP:20260423T123944
CREATED:20250218T212158Z
LAST-MODIFIED:20250218T213642Z
UID:28942-1748439000-1748442600@sewingseedsquiltco.com
SUMMARY:Gentry's Mill BOM
DESCRIPTION:fabric and BOM by Lynn Wilder for Marcus Fabrics \nincludes pattern\, fabric for quilt top and binding \nfinished size 92 x 92 \ncall 507-354-8801 for additional BOM information
URL:https://sewingseedsquiltco.com/event/gentrys-mill-bom-2/
CATEGORIES:BOM
ATTACH;FMTTYPE=image/jpeg:https://sewingseedsquiltco.com/wp-content/uploads/2025/02/GENTRY-S-MILL-BOM-QUILT.jpg
END:VEVENT
BEGIN:VEVENT
DTSTART;TZID=America/Chicago:20250616T180000
DTEND;TZID=America/Chicago:20250616T190000
DTSTAMP:20260423T123944
CREATED:20250506T165700Z
LAST-MODIFIED:20250506T165700Z
UID:29830-1750096800-1750100400@sewingseedsquiltco.com
SUMMARY:Flower Basket Sampler BOM
DESCRIPTION:
URL:https://sewingseedsquiltco.com/event/flower-basket-sampler-bom/
CATEGORIES:BOM
END:VEVENT
END:VCALENDAR