BEGIN:VCALENDAR
VERSION:2.0
PRODID:-//Sewing Seeds Quilt Co. - ECPv6.15.20//NONSGML v1.0//EN
CALSCALE:GREGORIAN
METHOD:PUBLISH
X-ORIGINAL-URL:https://sewingseedsquiltco.com
X-WR-CALDESC:Events for Sewing Seeds Quilt Co.
REFRESH-INTERVAL;VALUE=DURATION:PT1H
X-Robots-Tag:noindex
X-PUBLISHED-TTL:PT1H
BEGIN:VTIMEZONE
TZID:America/Chicago
BEGIN:DAYLIGHT
TZOFFSETFROM:-0600
TZOFFSETTO:-0500
TZNAME:CDT
DTSTART:20240310T080000
END:DAYLIGHT
BEGIN:STANDARD
TZOFFSETFROM:-0500
TZOFFSETTO:-0600
TZNAME:CST
DTSTART:20241103T070000
END:STANDARD
BEGIN:DAYLIGHT
TZOFFSETFROM:-0600
TZOFFSETTO:-0500
TZNAME:CDT
DTSTART:20250309T080000
END:DAYLIGHT
BEGIN:STANDARD
TZOFFSETFROM:-0500
TZOFFSETTO:-0600
TZNAME:CST
DTSTART:20251102T070000
END:STANDARD
BEGIN:DAYLIGHT
TZOFFSETFROM:-0600
TZOFFSETTO:-0500
TZNAME:CDT
DTSTART:20260308T080000
END:DAYLIGHT
BEGIN:STANDARD
TZOFFSETFROM:-0500
TZOFFSETTO:-0600
TZNAME:CST
DTSTART:20261101T070000
END:STANDARD
BEGIN:DAYLIGHT
TZOFFSETFROM:-0600
TZOFFSETTO:-0500
TZNAME:CDT
DTSTART:20270314T080000
END:DAYLIGHT
BEGIN:STANDARD
TZOFFSETFROM:-0500
TZOFFSETTO:-0600
TZNAME:CST
DTSTART:20271107T070000
END:STANDARD
END:VTIMEZONE
BEGIN:VEVENT
DTSTART;VALUE=DATE:20251224
DTEND;VALUE=DATE:20251225
DTSTAMP:20260421T064336
CREATED:20250218T215647Z
LAST-MODIFIED:20250218T215647Z
UID:28963-1766534400-1766620799@sewingseedsquiltco.com
SUMMARY:Closed Christmas Eve
DESCRIPTION:
URL:https://sewingseedsquiltco.com/event/closed-christmas-eve-8/
CATEGORIES:Special Hours
END:VEVENT
BEGIN:VEVENT
DTSTART;VALUE=DATE:20251225
DTEND;VALUE=DATE:20251226
DTSTAMP:20260421T064336
CREATED:20250827T192634Z
LAST-MODIFIED:20250827T192634Z
UID:30343-1766620800-1766707199@sewingseedsquiltco.com
SUMMARY:Closed Christmas Day
DESCRIPTION:
URL:https://sewingseedsquiltco.com/event/closed-christmas-day-8/
CATEGORIES:Special Hours
END:VEVENT
BEGIN:VEVENT
DTSTART;VALUE=DATE:20260101
DTEND;VALUE=DATE:20260102
DTSTAMP:20260421T064336
CREATED:20260117T215200Z
LAST-MODIFIED:20260117T215200Z
UID:31073-1767225600-1767311999@sewingseedsquiltco.com
SUMMARY:Closed New Year's Day
DESCRIPTION:
URL:https://sewingseedsquiltco.com/event/closed-new-years-day-9/
CATEGORIES:Special Hours
END:VEVENT
BEGIN:VEVENT
DTSTART;TZID=America/Chicago:20260302T100000
DTEND;TZID=America/Chicago:20260302T170000
DTSTAMP:20260421T064336
CREATED:20260224T213950Z
LAST-MODIFIED:20260224T214032Z
UID:31241-1772445600-1772470800@sewingseedsquiltco.com
SUMMARY:Closing at 5:00PM
DESCRIPTION:
URL:https://sewingseedsquiltco.com/event/closing-at-500pm-3/
CATEGORIES:Special Hours
ATTACH;FMTTYPE=image/jpeg:https://sewingseedsquiltco.com/wp-content/uploads/2026/02/Closing-Early-March-2nd.jpg
END:VEVENT
BEGIN:VEVENT
DTSTART;VALUE=DATE:20260403
DTEND;VALUE=DATE:20260404
DTSTAMP:20260421T064336
CREATED:20260202T232112Z
LAST-MODIFIED:20260331T201312Z
UID:31135-1775174400-1775260799@sewingseedsquiltco.com
SUMMARY:Closed Good Friday
DESCRIPTION:
URL:https://sewingseedsquiltco.com/event/closed-good-friday-12/
CATEGORIES:Special Hours
ATTACH;FMTTYPE=image/jpeg:https://sewingseedsquiltco.com/wp-content/uploads/2026/02/Closed-Easter-2026.jpg
END:VEVENT
BEGIN:VEVENT
DTSTART;VALUE=DATE:20260404
DTEND;VALUE=DATE:20260405
DTSTAMP:20260421T064336
CREATED:20260202T232135Z
LAST-MODIFIED:20260331T201341Z
UID:31137-1775260800-1775347199@sewingseedsquiltco.com
SUMMARY:Closed Holy Saturday
DESCRIPTION:
URL:https://sewingseedsquiltco.com/event/closed-holy-saturday-3/
CATEGORIES:Special Hours
ATTACH;FMTTYPE=image/jpeg:https://sewingseedsquiltco.com/wp-content/uploads/2026/02/Closed-Easter-2026.jpg
END:VEVENT
BEGIN:VEVENT
DTSTART;VALUE=DATE:20260523
DTEND;VALUE=DATE:20260526
DTSTAMP:20260421T064336
CREATED:20260414T171019Z
LAST-MODIFIED:20260414T171019Z
UID:31457-1779494400-1779753599@sewingseedsquiltco.com
SUMMARY:Closed Memorial Day Weekend
DESCRIPTION:
URL:https://sewingseedsquiltco.com/event/closed-memorial-day-weekend/
CATEGORIES:Special Hours
END:VEVENT
END:VCALENDAR