BEGIN:VCALENDAR
VERSION:2.0
PRODID:-//Sewing Seeds Quilt Co. - ECPv6.15.20//NONSGML v1.0//EN
CALSCALE:GREGORIAN
METHOD:PUBLISH
X-WR-CALNAME:Sewing Seeds Quilt Co.
X-ORIGINAL-URL:https://sewingseedsquiltco.com
X-WR-CALDESC:Events for Sewing Seeds Quilt Co.
REFRESH-INTERVAL;VALUE=DURATION:PT1H
X-Robots-Tag:noindex
X-PUBLISHED-TTL:PT1H
BEGIN:VTIMEZONE
TZID:America/Chicago
BEGIN:DAYLIGHT
TZOFFSETFROM:-0600
TZOFFSETTO:-0500
TZNAME:CDT
DTSTART:20200308T080000
END:DAYLIGHT
BEGIN:STANDARD
TZOFFSETFROM:-0500
TZOFFSETTO:-0600
TZNAME:CST
DTSTART:20201101T070000
END:STANDARD
BEGIN:DAYLIGHT
TZOFFSETFROM:-0600
TZOFFSETTO:-0500
TZNAME:CDT
DTSTART:20210314T080000
END:DAYLIGHT
BEGIN:STANDARD
TZOFFSETFROM:-0500
TZOFFSETTO:-0600
TZNAME:CST
DTSTART:20211107T070000
END:STANDARD
BEGIN:DAYLIGHT
TZOFFSETFROM:-0600
TZOFFSETTO:-0500
TZNAME:CDT
DTSTART:20220313T080000
END:DAYLIGHT
BEGIN:STANDARD
TZOFFSETFROM:-0500
TZOFFSETTO:-0600
TZNAME:CST
DTSTART:20221106T070000
END:STANDARD
END:VTIMEZONE
BEGIN:VEVENT
DTSTART;VALUE=DATE:20211201
DTEND;VALUE=DATE:20211204
DTSTAMP:20260422T081214
CREATED:20210914T151715Z
LAST-MODIFIED:20210914T151715Z
UID:21537-1638316800-1638575999@sewingseedsquiltco.com
SUMMARY:Holiday Hop 9AM-5PM
DESCRIPTION:
URL:https://sewingseedsquiltco.com/event/holiday-hop-9am-5pm/
CATEGORIES:Event,Shop Hop,Special Hours
END:VEVENT
BEGIN:VEVENT
DTSTART;VALUE=DATE:20211125
DTEND;VALUE=DATE:20211126
DTSTAMP:20260422T081214
CREATED:20210914T151429Z
LAST-MODIFIED:20210914T151438Z
UID:21535-1637798400-1637884799@sewingseedsquiltco.com
SUMMARY:Closed Thanksgiving Day
DESCRIPTION:
URL:https://sewingseedsquiltco.com/event/closed-thanksgiving-day-7/
CATEGORIES:Special Hours
END:VEVENT
BEGIN:VEVENT
DTSTART;TZID=America/Chicago:20211124T133000
DTEND;TZID=America/Chicago:20211124T143000
DTSTAMP:20260422T081214
CREATED:20210914T145343Z
LAST-MODIFIED:20211108T193232Z
UID:21527-1637760600-1637764200@sewingseedsquiltco.com
SUMMARY:Canyon BOM
DESCRIPTION:
URL:https://sewingseedsquiltco.com/event/canyon-bom-3/
CATEGORIES:BOM
END:VEVENT
BEGIN:VEVENT
DTSTART;TZID=America/Chicago:20211122T180000
DTEND;TZID=America/Chicago:20211122T190000
DTSTAMP:20260422T081214
CREATED:20210914T151405Z
LAST-MODIFIED:20210914T151405Z
UID:21533-1637604000-1637607600@sewingseedsquiltco.com
SUMMARY:A Time for Gathering Wool BOM
DESCRIPTION:
URL:https://sewingseedsquiltco.com/event/a-time-for-gathering-wool-bom-7/
CATEGORIES:BOM
END:VEVENT
BEGIN:VEVENT
DTSTART;TZID=America/Chicago:20211120T100000
DTEND;TZID=America/Chicago:20211120T110000
DTSTAMP:20260422T081214
CREATED:20210914T145413Z
LAST-MODIFIED:20210914T145413Z
UID:21529-1637402400-1637406000@sewingseedsquiltco.com
SUMMARY:Schoolgirl Sampler
DESCRIPTION:
URL:https://sewingseedsquiltco.com/event/schoolgirl-sampler-3/
CATEGORIES:BOM
END:VEVENT
BEGIN:VEVENT
DTSTART;TZID=America/Chicago:20211120T090000
DTEND;TZID=America/Chicago:20211120T150000
DTSTAMP:20260422T081214
CREATED:20210914T151335Z
LAST-MODIFIED:20210914T200033Z
UID:21531-1637398800-1637420400@sewingseedsquiltco.com
SUMMARY:Bag Sale 8:30AM-2:30PM *Note Special Hours
DESCRIPTION:Store Hours have been adjusted today to accomodate our Staff Christmas Gathering this evening!
URL:https://sewingseedsquiltco.com/event/bag-sale-9am-3pm-note-special-hours/
CATEGORIES:Sale,Special Hours
END:VEVENT
BEGIN:VEVENT
DTSTART;VALUE=DATE:20211113
DTEND;VALUE=DATE:20211114
DTSTAMP:20260422T081214
CREATED:20210914T145104Z
LAST-MODIFIED:20210914T145104Z
UID:21521-1636761600-1636847999@sewingseedsquiltco.com
SUMMARY:Saturday Sampler 10:00 & 1:00
DESCRIPTION:
URL:https://sewingseedsquiltco.com/event/saturday-sampler-1000-100-5/
CATEGORIES:BOM
END:VEVENT
BEGIN:VEVENT
DTSTART;VALUE=DATE:20211111
DTEND;VALUE=DATE:20211114
DTSTAMP:20260422T081214
CREATED:20210914T145148Z
LAST-MODIFIED:20210914T145244Z
UID:21523-1636588800-1636847999@sewingseedsquiltco.com
SUMMARY:Hometown Holiday Roadtrip 9AM-5PM
DESCRIPTION:
URL:https://sewingseedsquiltco.com/event/hometown-holiday-roadtrip-9am-5pm-2/
CATEGORIES:Shop Hop,Special Hours
END:VEVENT
BEGIN:VEVENT
DTSTART;TZID=America/Chicago:20211109T133000
DTEND;TZID=America/Chicago:20211109T143000
DTSTAMP:20260422T081214
CREATED:20210914T145032Z
LAST-MODIFIED:20210914T145032Z
UID:21519-1636464600-1636468200@sewingseedsquiltco.com
SUMMARY:Forevermore BOM
DESCRIPTION:
URL:https://sewingseedsquiltco.com/event/forevermore-bom-8/
CATEGORIES:BOM
END:VEVENT
BEGIN:VEVENT
DTSTART;TZID=America/Chicago:20211101T180000
DTEND;TZID=America/Chicago:20211101T190000
DTSTAMP:20260422T081214
CREATED:20210914T144959Z
LAST-MODIFIED:20210914T144959Z
UID:21517-1635789600-1635793200@sewingseedsquiltco.com
SUMMARY:Noah's Journey BOM
DESCRIPTION:
URL:https://sewingseedsquiltco.com/event/noahs-journey-bom-2/
CATEGORIES:BOM
END:VEVENT
BEGIN:VEVENT
DTSTART;TZID=America/Chicago:20211025T180000
DTEND;TZID=America/Chicago:20211025T190000
DTSTAMP:20260422T081214
CREATED:20210914T144735Z
LAST-MODIFIED:20210914T144735Z
UID:21515-1635184800-1635188400@sewingseedsquiltco.com
SUMMARY:A Time for Gatherings Wool BOM
DESCRIPTION:
URL:https://sewingseedsquiltco.com/event/a-time-for-gatherings-wool-bom/
CATEGORIES:BOM
END:VEVENT
BEGIN:VEVENT
DTSTART;TZID=America/Chicago:20211020T133000
DTEND;TZID=America/Chicago:20211020T143000
DTSTAMP:20260422T081214
CREATED:20210914T144630Z
LAST-MODIFIED:20210914T144630Z
UID:21511-1634736600-1634740200@sewingseedsquiltco.com
SUMMARY:Canyon BOM
DESCRIPTION:
URL:https://sewingseedsquiltco.com/event/canyon-bom-2/
CATEGORIES:BOM
END:VEVENT
BEGIN:VEVENT
DTSTART;VALUE=DATE:20211020
DTEND;VALUE=DATE:20211021
DTSTAMP:20260422T081214
CREATED:20210914T144700Z
LAST-MODIFIED:20210914T144700Z
UID:21513-1634688000-1634774399@sewingseedsquiltco.com
SUMMARY:Bag Sale 10AM-5PM
DESCRIPTION:
URL:https://sewingseedsquiltco.com/event/bag-sale-10am-5pm-5/
CATEGORIES:Sale
END:VEVENT
BEGIN:VEVENT
DTSTART;TZID=America/Chicago:20211018T180000
DTEND;TZID=America/Chicago:20211018T190000
DTSTAMP:20260422T081214
CREATED:20210914T144555Z
LAST-MODIFIED:20210914T144555Z
UID:21509-1634580000-1634583600@sewingseedsquiltco.com
SUMMARY:Flea Market Flowers BOM
DESCRIPTION:
URL:https://sewingseedsquiltco.com/event/flea-market-flowers-bom-2/
CATEGORIES:BOM
END:VEVENT
BEGIN:VEVENT
DTSTART;TZID=America/Chicago:20211016T100000
DTEND;TZID=America/Chicago:20211016T110000
DTSTAMP:20260422T081214
CREATED:20210914T144524Z
LAST-MODIFIED:20210914T144524Z
UID:21507-1634378400-1634382000@sewingseedsquiltco.com
SUMMARY:Schoolgirl Sampler
DESCRIPTION:
URL:https://sewingseedsquiltco.com/event/schoolgirl-sampler-2/
CATEGORIES:BOM
END:VEVENT
BEGIN:VEVENT
DTSTART;TZID=America/Chicago:20211012T133000
DTEND;TZID=America/Chicago:20211012T143000
DTSTAMP:20260422T081214
CREATED:20210914T144432Z
LAST-MODIFIED:20210914T144432Z
UID:21505-1634045400-1634049000@sewingseedsquiltco.com
SUMMARY:Forevermore BOM
DESCRIPTION:
URL:https://sewingseedsquiltco.com/event/forevermore-bom-7/
CATEGORIES:BOM
END:VEVENT
BEGIN:VEVENT
DTSTART;VALUE=DATE:20211009
DTEND;VALUE=DATE:20211010
DTSTAMP:20260422T081214
CREATED:20210914T144338Z
LAST-MODIFIED:20210914T144338Z
UID:21503-1633737600-1633823999@sewingseedsquiltco.com
SUMMARY:Saturday Sampler 10:00 & 1:00
DESCRIPTION:
URL:https://sewingseedsquiltco.com/event/saturday-sampler-1000-100-4/
CATEGORIES:BOM
END:VEVENT
BEGIN:VEVENT
DTSTART;TZID=America/Chicago:20211004T180000
DTEND;TZID=America/Chicago:20211004T190000
DTSTAMP:20260422T081214
CREATED:20210914T144302Z
LAST-MODIFIED:20210914T144302Z
UID:21501-1633370400-1633374000@sewingseedsquiltco.com
SUMMARY:Noah's Journey Embroidery BOM
DESCRIPTION:
URL:https://sewingseedsquiltco.com/event/noahs-journey-embroidery-bom-4/
CATEGORIES:BOM
END:VEVENT
BEGIN:VEVENT
DTSTART;TZID=America/Chicago:20210927T180000
DTEND;TZID=America/Chicago:20210927T190000
DTSTAMP:20260422T081214
CREATED:20210914T143511Z
LAST-MODIFIED:20210914T143511Z
UID:21496-1632765600-1632769200@sewingseedsquiltco.com
SUMMARY:A Time for Gathering Wool BOM
DESCRIPTION:
URL:https://sewingseedsquiltco.com/event/a-time-for-gathering-wool-bom-6/
CATEGORIES:BOM
END:VEVENT
BEGIN:VEVENT
DTSTART;TZID=America/Chicago:20210925T100000
DTEND;TZID=America/Chicago:20210925T110000
DTSTAMP:20260422T081214
CREATED:20210914T143431Z
LAST-MODIFIED:20210914T143431Z
UID:21494-1632564000-1632567600@sewingseedsquiltco.com
SUMMARY:Flea Market Flowers 10:00
DESCRIPTION:*Schedule Change* Rescheduled from Monday\, September 20th
URL:https://sewingseedsquiltco.com/event/flea-market-flowers-1000/
CATEGORIES:BOM
END:VEVENT
BEGIN:VEVENT
DTSTART;TZID=America/Chicago:20210920T100000
DTEND;TZID=America/Chicago:20210920T190000
DTSTAMP:20260422T081214
CREATED:20210914T143247Z
LAST-MODIFIED:20210914T143247Z
UID:21492-1632132000-1632164400@sewingseedsquiltco.com
SUMMARY:Bag Sale 10AM-7PM
DESCRIPTION:
URL:https://sewingseedsquiltco.com/event/bag-sale-10am-7pm/
CATEGORIES:Sale
END:VEVENT
BEGIN:VEVENT
DTSTART;TZID=America/Chicago:20210918T100000
DTEND;TZID=America/Chicago:20210918T110000
DTSTAMP:20260422T081214
CREATED:20210914T143210Z
LAST-MODIFIED:20210914T143210Z
UID:21490-1631959200-1631962800@sewingseedsquiltco.com
SUMMARY:Schoolgirl Sampler 10:00
DESCRIPTION:
URL:https://sewingseedsquiltco.com/event/schoolgirl-sampler-1000/
CATEGORIES:BOM
END:VEVENT
BEGIN:VEVENT
DTSTART;TZID=America/Chicago:20210916T133000
DTEND;TZID=America/Chicago:20210916T143000
DTSTAMP:20260422T081214
CREATED:20210914T143126Z
LAST-MODIFIED:20210914T143126Z
UID:21488-1631799000-1631802600@sewingseedsquiltco.com
SUMMARY:Simple Whatnots Club
DESCRIPTION:
URL:https://sewingseedsquiltco.com/event/simple-whatnots-club-2/
CATEGORIES:Club
END:VEVENT
BEGIN:VEVENT
DTSTART;TZID=America/Chicago:20210915T133000
DTEND;TZID=America/Chicago:20210915T143000
DTSTAMP:20260422T081214
CREATED:20210914T143051Z
LAST-MODIFIED:20210914T143051Z
UID:21486-1631712600-1631716200@sewingseedsquiltco.com
SUMMARY:Canyon Batik BOM
DESCRIPTION:
URL:https://sewingseedsquiltco.com/event/canyon-batik-bom-3/
CATEGORIES:BOM
END:VEVENT
BEGIN:VEVENT
DTSTART;TZID=America/Chicago:20210914T133000
DTEND;TZID=America/Chicago:20210914T143000
DTSTAMP:20260422T081214
CREATED:20210914T143012Z
LAST-MODIFIED:20210914T143012Z
UID:21484-1631626200-1631629800@sewingseedsquiltco.com
SUMMARY:Forevermore BOM
DESCRIPTION:
URL:https://sewingseedsquiltco.com/event/forevermore-bom-6/
CATEGORIES:BOM
END:VEVENT
BEGIN:VEVENT
DTSTART;TZID=America/Chicago:20210913T180000
DTEND;TZID=America/Chicago:20210913T190000
DTSTAMP:20260422T081214
CREATED:20210914T142921Z
LAST-MODIFIED:20210914T142921Z
UID:21482-1631556000-1631559600@sewingseedsquiltco.com
SUMMARY:Noah's Journey Embroidery BOM
DESCRIPTION:
URL:https://sewingseedsquiltco.com/event/noahs-journey-embroidery-bom-3/
CATEGORIES:BOM
END:VEVENT
BEGIN:VEVENT
DTSTART;VALUE=DATE:20210911
DTEND;VALUE=DATE:20210912
DTSTAMP:20260422T081214
CREATED:20210914T142843Z
LAST-MODIFIED:20210914T142843Z
UID:21480-1631318400-1631404799@sewingseedsquiltco.com
SUMMARY:Saturday Sampler 10:00 & 1:00
DESCRIPTION:
URL:https://sewingseedsquiltco.com/event/saturday-sampler-1000-100-3/
CATEGORIES:BOM
END:VEVENT
BEGIN:VEVENT
DTSTART;VALUE=DATE:20210906
DTEND;VALUE=DATE:20210907
DTSTAMP:20260422T081214
CREATED:20210914T142751Z
LAST-MODIFIED:20210914T142751Z
UID:21478-1630886400-1630972799@sewingseedsquiltco.com
SUMMARY:Closed Labor Day
DESCRIPTION:
URL:https://sewingseedsquiltco.com/event/closed-labor-day-6/
CATEGORIES:Special Hours
END:VEVENT
BEGIN:VEVENT
DTSTART;VALUE=DATE:20210730
DTEND;VALUE=DATE:20210822
DTSTAMP:20260422T081214
CREATED:20210508T205128Z
LAST-MODIFIED:20210510T143854Z
UID:20795-1627603200-1629590399@sewingseedsquiltco.com
SUMMARY:15th Annual Quilt MN Shop Hop
DESCRIPTION:
URL:https://sewingseedsquiltco.com/event/15th-annual-qmn-shop-hop/
CATEGORIES:Shop Hop
ATTACH;FMTTYPE=application/pdf:https://sewingseedsquiltco.com/wp-content/uploads/2021/05/South-Central-Section-Flyer-2021-1.pdf
END:VEVENT
BEGIN:VEVENT
DTSTART;TZID=America/Chicago:20210726T180000
DTEND;TZID=America/Chicago:20210726T190000
DTSTAMP:20260422T081214
CREATED:20210628T235614Z
LAST-MODIFIED:20210628T235614Z
UID:21136-1627322400-1627326000@sewingseedsquiltco.com
SUMMARY:A Time for Gathering BOM 6PM
DESCRIPTION:
URL:https://sewingseedsquiltco.com/event/a-time-for-gathering-bom-6pm/
CATEGORIES:BOM
END:VEVENT
END:VCALENDAR