BEGIN:VCALENDAR
VERSION:2.0
PRODID:-//Sewing Seeds Quilt Co. - ECPv6.15.20//NONSGML v1.0//EN
CALSCALE:GREGORIAN
METHOD:PUBLISH
X-WR-CALNAME:Sewing Seeds Quilt Co.
X-ORIGINAL-URL:https://sewingseedsquiltco.com
X-WR-CALDESC:Events for Sewing Seeds Quilt Co.
REFRESH-INTERVAL;VALUE=DURATION:PT1H
X-Robots-Tag:noindex
X-PUBLISHED-TTL:PT1H
BEGIN:VTIMEZONE
TZID:America/Chicago
BEGIN:DAYLIGHT
TZOFFSETFROM:-0600
TZOFFSETTO:-0500
TZNAME:CDT
DTSTART:20210314T080000
END:DAYLIGHT
BEGIN:STANDARD
TZOFFSETFROM:-0500
TZOFFSETTO:-0600
TZNAME:CST
DTSTART:20211107T070000
END:STANDARD
BEGIN:DAYLIGHT
TZOFFSETFROM:-0600
TZOFFSETTO:-0500
TZNAME:CDT
DTSTART:20220313T080000
END:DAYLIGHT
BEGIN:STANDARD
TZOFFSETFROM:-0500
TZOFFSETTO:-0600
TZNAME:CST
DTSTART:20221106T070000
END:STANDARD
BEGIN:DAYLIGHT
TZOFFSETFROM:-0600
TZOFFSETTO:-0500
TZNAME:CDT
DTSTART:20230312T080000
END:DAYLIGHT
BEGIN:STANDARD
TZOFFSETFROM:-0500
TZOFFSETTO:-0600
TZNAME:CST
DTSTART:20231105T070000
END:STANDARD
BEGIN:DAYLIGHT
TZOFFSETFROM:-0600
TZOFFSETTO:-0500
TZNAME:CDT
DTSTART:20240310T080000
END:DAYLIGHT
BEGIN:STANDARD
TZOFFSETFROM:-0500
TZOFFSETTO:-0600
TZNAME:CST
DTSTART:20241103T070000
END:STANDARD
END:VTIMEZONE
BEGIN:VEVENT
DTSTART;VALUE=DATE:20220905
DTEND;VALUE=DATE:20220906
DTSTAMP:20260423T082254
CREATED:20220517T184159Z
LAST-MODIFIED:20220517T184159Z
UID:23296-1662336000-1662422399@sewingseedsquiltco.com
SUMMARY:Closed Labor Day
DESCRIPTION:
URL:https://sewingseedsquiltco.com/event/closed-labor-day-7/
CATEGORIES:Special Hours
END:VEVENT
BEGIN:VEVENT
DTSTART;VALUE=DATE:20220910
DTEND;VALUE=DATE:20220911
DTSTAMP:20260423T082254
CREATED:20220909T204503Z
LAST-MODIFIED:20220909T204503Z
UID:23961-1662768000-1662854399@sewingseedsquiltco.com
SUMMARY:Saturday Sampler 10:00 & 1:00
DESCRIPTION:
URL:https://sewingseedsquiltco.com/event/saturday-sampler-1000-100-11/
CATEGORIES:Club
END:VEVENT
BEGIN:VEVENT
DTSTART;TZID=America/Chicago:20220912T180000
DTEND;TZID=America/Chicago:20220912T190000
DTSTAMP:20260423T082254
CREATED:20220909T204545Z
LAST-MODIFIED:20220909T204545Z
UID:23963-1663005600-1663009200@sewingseedsquiltco.com
SUMMARY:Quilter's Grace Mystery BOM 6:00PM
DESCRIPTION:
URL:https://sewingseedsquiltco.com/event/quilters-grace-mystery-bom-600pm/
CATEGORIES:BOM
END:VEVENT
BEGIN:VEVENT
DTSTART;TZID=America/Chicago:20220913T133000
DTEND;TZID=America/Chicago:20220913T143000
DTSTAMP:20260423T082254
CREATED:20220909T204618Z
LAST-MODIFIED:20220909T204618Z
UID:23965-1663075800-1663079400@sewingseedsquiltco.com
SUMMARY:A Ribbon Runs Through It BOM
DESCRIPTION:
URL:https://sewingseedsquiltco.com/event/a-ribbon-runs-through-it-bom-5/
CATEGORIES:BOM
END:VEVENT
BEGIN:VEVENT
DTSTART;TZID=America/Chicago:20220919T180000
DTEND;TZID=America/Chicago:20220919T190000
DTSTAMP:20260423T082254
CREATED:20220909T204652Z
LAST-MODIFIED:20220909T204652Z
UID:23967-1663610400-1663614000@sewingseedsquiltco.com
SUMMARY:Chicken Salad Sew Along BOM
DESCRIPTION:
URL:https://sewingseedsquiltco.com/event/chicken-salad-sew-along-bom/
CATEGORIES:BOM
END:VEVENT
BEGIN:VEVENT
DTSTART;TZID=America/Chicago:20220920T100000
DTEND;TZID=America/Chicago:20220920T170000
DTSTAMP:20260423T082254
CREATED:20220909T204729Z
LAST-MODIFIED:20220909T204729Z
UID:23969-1663668000-1663693200@sewingseedsquiltco.com
SUMMARY:Bag Sale
DESCRIPTION:
URL:https://sewingseedsquiltco.com/event/bag-sale-71/
CATEGORIES:Sale
END:VEVENT
BEGIN:VEVENT
DTSTART;TZID=America/Chicago:20220921T133000
DTEND;TZID=America/Chicago:20220921T143000
DTSTAMP:20260423T082254
CREATED:20220909T204802Z
LAST-MODIFIED:20220909T204802Z
UID:23971-1663767000-1663770600@sewingseedsquiltco.com
SUMMARY:Evening Sky Batik BOM
DESCRIPTION:
URL:https://sewingseedsquiltco.com/event/evening-sky-batik-bom/
CATEGORIES:BOM
END:VEVENT
BEGIN:VEVENT
DTSTART;TZID=America/Chicago:20220926T180000
DTEND;TZID=America/Chicago:20220926T190000
DTSTAMP:20260423T082254
CREATED:20220909T204835Z
LAST-MODIFIED:20220909T204835Z
UID:23973-1664215200-1664218800@sewingseedsquiltco.com
SUMMARY:Live A Thankful Life BOM
DESCRIPTION:
URL:https://sewingseedsquiltco.com/event/live-a-thankful-life-bom-5/
CATEGORIES:BOM
END:VEVENT
BEGIN:VEVENT
DTSTART;VALUE=DATE:20221001
DTEND;VALUE=DATE:20221003
DTSTAMP:20260423T082254
CREATED:20220719T222358Z
LAST-MODIFIED:20220719T222358Z
UID:23709-1664582400-1664755199@sewingseedsquiltco.com
SUMMARY:Midwest Makers Fall Bus Tour
DESCRIPTION:Visit these seven great stores:  The Pickett Fence – Prairie du Chien\, WI . . . Calico Hutch – Hayward\, MN . . . Red Roxy Quilt Co – Decorah\, IA . . . Famer’s Daughters Quilts – Oelwein\, IA . . . Sewing Seeds Quilt Co – New Ulm\, MN . . . Buttermilk Basin – Spring Lake Park\, MN . . . Off the Rails Quilting – Bundurant\, IA \nBuses departing from each location.  Call (507)354-8801 to reserve your seat today!
URL:https://sewingseedsquiltco.com/event/midwest-makers-fall-bus-tour/
CATEGORIES:Travel Opportunity
ATTACH;FMTTYPE=application/pdf:https://sewingseedsquiltco.com/wp-content/uploads/2022/07/Midwest-Makers-Flyer.pdf
END:VEVENT
BEGIN:VEVENT
DTSTART;VALUE=DATE:20221008
DTEND;VALUE=DATE:20221009
DTSTAMP:20260423T082254
CREATED:20220909T204945Z
LAST-MODIFIED:20220909T204945Z
UID:23975-1665187200-1665273599@sewingseedsquiltco.com
SUMMARY:Saturday Sampler 10:00 & 1:00
DESCRIPTION:
URL:https://sewingseedsquiltco.com/event/saturday-sampler-1000-100-12/
CATEGORIES:Club
END:VEVENT
BEGIN:VEVENT
DTSTART;TZID=America/Chicago:20221011T133000
DTEND;TZID=America/Chicago:20221011T143000
DTSTAMP:20260423T082254
CREATED:20220909T205035Z
LAST-MODIFIED:20220909T205035Z
UID:23977-1665495000-1665498600@sewingseedsquiltco.com
SUMMARY:A Ribbon Runs Through It BOM
DESCRIPTION:
URL:https://sewingseedsquiltco.com/event/a-ribbon-runs-through-it-bom-6/
CATEGORIES:BOM
END:VEVENT
BEGIN:VEVENT
DTSTART;TZID=America/Chicago:20221019T123000
DTEND;TZID=America/Chicago:20221019T140000
DTSTAMP:20260423T082254
CREATED:20220909T205140Z
LAST-MODIFIED:20220909T205140Z
UID:23979-1666182600-1666188000@sewingseedsquiltco.com
SUMMARY:Welcome NIACC Bus Group!
DESCRIPTION:
URL:https://sewingseedsquiltco.com/event/welcome-niacc-bus-group/
CATEGORIES:Welcome Guests!
END:VEVENT
BEGIN:VEVENT
DTSTART;TZID=America/Chicago:20221019T133000
DTEND;TZID=America/Chicago:20221019T143000
DTSTAMP:20260423T082254
CREATED:20220909T205215Z
LAST-MODIFIED:20220909T205215Z
UID:23981-1666186200-1666189800@sewingseedsquiltco.com
SUMMARY:Evening Sky Batik BOM
DESCRIPTION:
URL:https://sewingseedsquiltco.com/event/evening-sky-batik-bom-2/
CATEGORIES:BOM
END:VEVENT
BEGIN:VEVENT
DTSTART;TZID=America/Chicago:20221020T100000
DTEND;TZID=America/Chicago:20221020T170000
DTSTAMP:20260423T082254
CREATED:20220909T205236Z
LAST-MODIFIED:20220909T205236Z
UID:23983-1666260000-1666285200@sewingseedsquiltco.com
SUMMARY:Bag Sale
DESCRIPTION:
URL:https://sewingseedsquiltco.com/event/bag-sale-72/
CATEGORIES:Sale
END:VEVENT
BEGIN:VEVENT
DTSTART;TZID=America/Chicago:20221024T180000
DTEND;TZID=America/Chicago:20221024T190000
DTSTAMP:20260423T082254
CREATED:20220909T205314Z
LAST-MODIFIED:20220909T205314Z
UID:23985-1666634400-1666638000@sewingseedsquiltco.com
SUMMARY:Live A Thankful Life Wool BOM
DESCRIPTION:
URL:https://sewingseedsquiltco.com/event/live-a-thankful-life-wool-bom/
CATEGORIES:BOM
END:VEVENT
BEGIN:VEVENT
DTSTART;VALUE=DATE:20221031
DTEND;VALUE=DATE:20221101
DTSTAMP:20260423T082254
CREATED:20221025T154718Z
LAST-MODIFIED:20221025T154718Z
UID:24078-1667174400-1667260799@sewingseedsquiltco.com
SUMMARY:Closing at 5:00PM
DESCRIPTION:
URL:https://sewingseedsquiltco.com/event/closing-at-500pm/
CATEGORIES:Special Hours
END:VEVENT
BEGIN:VEVENT
DTSTART;TZID=America/Chicago:20221108T133000
DTEND;TZID=America/Chicago:20221108T143000
DTSTAMP:20260423T082254
CREATED:20220909T205610Z
LAST-MODIFIED:20220909T205610Z
UID:23987-1667914200-1667917800@sewingseedsquiltco.com
SUMMARY:A Ribbon Runs Through It BOM
DESCRIPTION:
URL:https://sewingseedsquiltco.com/event/a-ribbon-runs-through-it-bom-7/
CATEGORIES:BOM
END:VEVENT
BEGIN:VEVENT
DTSTART;VALUE=DATE:20221110
DTEND;VALUE=DATE:20221113
DTSTAMP:20260423T082254
CREATED:20220909T205658Z
LAST-MODIFIED:20220909T210933Z
UID:23989-1668038400-1668297599@sewingseedsquiltco.com
SUMMARY:Hometown Holiday Road Trip Open 9AM-5PM
DESCRIPTION:
URL:https://sewingseedsquiltco.com/event/hometown-holiday-road-trip-shop-hop-4/
CATEGORIES:Event,Shop Hop,Special Hours
ATTACH;FMTTYPE=image/png:https://sewingseedsquiltco.com/wp-content/uploads/2022/09/Hometown-Holiday-Road-Trip-2022-Flyer.png
END:VEVENT
BEGIN:VEVENT
DTSTART;VALUE=DATE:20221112
DTEND;VALUE=DATE:20221113
DTSTAMP:20260423T082254
CREATED:20220909T211037Z
LAST-MODIFIED:20220909T211037Z
UID:23994-1668211200-1668297599@sewingseedsquiltco.com
SUMMARY:Saturday Sampler 10:00 & 1:00
DESCRIPTION:
URL:https://sewingseedsquiltco.com/event/saturday-sampler-1000-100-13/
END:VEVENT
BEGIN:VEVENT
DTSTART;TZID=America/Chicago:20221115T133000
DTEND;TZID=America/Chicago:20221115T143000
DTSTAMP:20260423T082254
CREATED:20220909T211114Z
LAST-MODIFIED:20220909T211114Z
UID:23996-1668519000-1668522600@sewingseedsquiltco.com
SUMMARY:Evening Sky Batik BOM
DESCRIPTION:
URL:https://sewingseedsquiltco.com/event/evening-sky-batik-bom-3/
CATEGORIES:BOM
END:VEVENT
BEGIN:VEVENT
DTSTART;TZID=America/Chicago:20221121T100000
DTEND;TZID=America/Chicago:20221121T190000
DTSTAMP:20260423T082254
CREATED:20220909T211145Z
LAST-MODIFIED:20230123T144602Z
UID:23998-1669024800-1669057200@sewingseedsquiltco.com
SUMMARY:Bag Sale
DESCRIPTION:
URL:https://sewingseedsquiltco.com/event/bag-sale-10am-7pm-3/
CATEGORIES:Sale
END:VEVENT
BEGIN:VEVENT
DTSTART;TZID=America/Chicago:20221124T080000
DTEND;TZID=America/Chicago:20221124T170000
DTSTAMP:20260423T082254
CREATED:20220909T211212Z
LAST-MODIFIED:20221116T184121Z
UID:24000-1669276800-1669309200@sewingseedsquiltco.com
SUMMARY:Closed Thanksgiving Day
DESCRIPTION:
URL:https://sewingseedsquiltco.com/event/closed-thanksgiving-day-8/
CATEGORIES:Special Hours
END:VEVENT
BEGIN:VEVENT
DTSTART;TZID=America/Chicago:20221128T180000
DTEND;TZID=America/Chicago:20221128T190000
DTSTAMP:20260423T082254
CREATED:20220909T211336Z
LAST-MODIFIED:20220909T211336Z
UID:24002-1669658400-1669662000@sewingseedsquiltco.com
SUMMARY:Live A Thankful Life Wool BOM
DESCRIPTION:
URL:https://sewingseedsquiltco.com/event/live-a-thankful-life-wool-bom-2/
CATEGORIES:BOM
END:VEVENT
BEGIN:VEVENT
DTSTART;TZID=America/Chicago:20221208T160000
DTEND;TZID=America/Chicago:20221208T200000
DTSTAMP:20260423T082254
CREATED:20221220T153458Z
LAST-MODIFIED:20221220T153458Z
UID:24689-1670515200-1670529600@sewingseedsquiltco.com
SUMMARY:Shop NU at Night
DESCRIPTION:
URL:https://sewingseedsquiltco.com/event/shop-nu-at-night-2/
CATEGORIES:Event,Sale,Special Hours
END:VEVENT
BEGIN:VEVENT
DTSTART;VALUE=DATE:20221210
DTEND;VALUE=DATE:20221212
DTSTAMP:20260423T082254
CREATED:20221220T153549Z
LAST-MODIFIED:20230123T144648Z
UID:24691-1670630400-1670803199@sewingseedsquiltco.com
SUMMARY:Saturday Sampler 10:00 & 1:00
DESCRIPTION:
URL:https://sewingseedsquiltco.com/event/saturday-sampler-1000-100-14/
CATEGORIES:Club
ATTACH;FMTTYPE=image/jpeg:https://sewingseedsquiltco.com/wp-content/uploads/2023/01/Chain-Gang.jpg
END:VEVENT
BEGIN:VEVENT
DTSTART;TZID=America/Chicago:20221219T180000
DTEND;TZID=America/Chicago:20221219T190000
DTSTAMP:20260423T082254
CREATED:20221220T153715Z
LAST-MODIFIED:20221220T153846Z
UID:24693-1671472800-1671476400@sewingseedsquiltco.com
SUMMARY:Live A Thankful Life Wool BOM
DESCRIPTION:
URL:https://sewingseedsquiltco.com/event/live-a-thankful-life-bom-6/
CATEGORIES:BOM
END:VEVENT
BEGIN:VEVENT
DTSTART;TZID=America/Chicago:20221221T133000
DTEND;TZID=America/Chicago:20221221T143000
DTSTAMP:20260423T082254
CREATED:20221220T153745Z
LAST-MODIFIED:20221220T153745Z
UID:24695-1671629400-1671633000@sewingseedsquiltco.com
SUMMARY:Evening Sky BOM
DESCRIPTION:
URL:https://sewingseedsquiltco.com/event/evening-sky-bom/
CATEGORIES:BOM
END:VEVENT
BEGIN:VEVENT
DTSTART;VALUE=DATE:20221224
DTEND;VALUE=DATE:20221226
DTSTAMP:20260423T082254
CREATED:20221220T153205Z
LAST-MODIFIED:20221220T153322Z
UID:24682-1671840000-1671969599@sewingseedsquiltco.com
SUMMARY:Closed
DESCRIPTION:
URL:https://sewingseedsquiltco.com/event/closed-christmas-eve-7/
CATEGORIES:Special Hours
END:VEVENT
BEGIN:VEVENT
DTSTART;VALUE=DATE:20221226
DTEND;VALUE=DATE:20221228
DTSTAMP:20260423T082254
CREATED:20221220T153250Z
LAST-MODIFIED:20221220T153250Z
UID:24684-1672012800-1672142399@sewingseedsquiltco.com
SUMMARY:Closed
DESCRIPTION:
URL:https://sewingseedsquiltco.com/event/closed-6/
CATEGORIES:Special Hours
END:VEVENT
BEGIN:VEVENT
DTSTART;VALUE=DATE:20221231
DTEND;VALUE=DATE:20230102
DTSTAMP:20260423T082254
CREATED:20221220T153353Z
LAST-MODIFIED:20221220T153353Z
UID:24687-1672444800-1672574399@sewingseedsquiltco.com
SUMMARY:Closed
DESCRIPTION:
URL:https://sewingseedsquiltco.com/event/closed-7/
CATEGORIES:Special Hours
END:VEVENT
END:VCALENDAR