BEGIN:VCALENDAR
VERSION:2.0
PRODID:-//Sewing Seeds Quilt Co. - ECPv6.15.20//NONSGML v1.0//EN
CALSCALE:GREGORIAN
METHOD:PUBLISH
X-WR-CALNAME:Sewing Seeds Quilt Co.
X-ORIGINAL-URL:https://sewingseedsquiltco.com
X-WR-CALDESC:Events for Sewing Seeds Quilt Co.
REFRESH-INTERVAL;VALUE=DURATION:PT1H
X-Robots-Tag:noindex
X-PUBLISHED-TTL:PT1H
BEGIN:VTIMEZONE
TZID:America/Chicago
BEGIN:DAYLIGHT
TZOFFSETFROM:-0600
TZOFFSETTO:-0500
TZNAME:CDT
DTSTART:20220313T080000
END:DAYLIGHT
BEGIN:STANDARD
TZOFFSETFROM:-0500
TZOFFSETTO:-0600
TZNAME:CST
DTSTART:20221106T070000
END:STANDARD
BEGIN:DAYLIGHT
TZOFFSETFROM:-0600
TZOFFSETTO:-0500
TZNAME:CDT
DTSTART:20230312T080000
END:DAYLIGHT
BEGIN:STANDARD
TZOFFSETFROM:-0500
TZOFFSETTO:-0600
TZNAME:CST
DTSTART:20231105T070000
END:STANDARD
BEGIN:DAYLIGHT
TZOFFSETFROM:-0600
TZOFFSETTO:-0500
TZNAME:CDT
DTSTART:20240310T080000
END:DAYLIGHT
BEGIN:STANDARD
TZOFFSETFROM:-0500
TZOFFSETTO:-0600
TZNAME:CST
DTSTART:20241103T070000
END:STANDARD
END:VTIMEZONE
BEGIN:VEVENT
DTSTART;TZID=America/Chicago:20230624T090000
DTEND;TZID=America/Chicago:20230624T170000
DTSTAMP:20260423T110742
CREATED:20230605T232527Z
LAST-MODIFIED:20230605T232527Z
UID:25788-1687597200-1687626000@sewingseedsquiltco.com
SUMMARY:Quiltistry . . . An Outdoor Quilt Show
DESCRIPTION:
URL:https://sewingseedsquiltco.com/event/quiltistry-an-outdoor-quilt-show/
CATEGORIES:Event,Special Hours
ATTACH;FMTTYPE=application/pdf:https://sewingseedsquiltco.com/wp-content/uploads/2023/06/RVW-Ad-2023.pdf
END:VEVENT
BEGIN:VEVENT
DTSTART;TZID=America/Chicago:20230626T180000
DTEND;TZID=America/Chicago:20230626T190000
DTSTAMP:20260423T110742
CREATED:20230605T232612Z
LAST-MODIFIED:20230605T232927Z
UID:25791-1687802400-1687806000@sewingseedsquiltco.com
SUMMARY:Sleighbells Embroidery BOM (July meeting)
DESCRIPTION:
URL:https://sewingseedsquiltco.com/event/sleighbells-embroidery-bom-july-meeting/
CATEGORIES:BOM
ATTACH;FMTTYPE=image/jpeg:https://sewingseedsquiltco.com/wp-content/uploads/2023/01/Sleighbells.jpg
END:VEVENT
BEGIN:VEVENT
DTSTART;VALUE=DATE:20230703
DTEND;VALUE=DATE:20230704
DTSTAMP:20260423T110742
CREATED:20230605T232736Z
LAST-MODIFIED:20230605T232736Z
UID:25793-1688342400-1688428799@sewingseedsquiltco.com
SUMMARY:Closed
DESCRIPTION:
URL:https://sewingseedsquiltco.com/event/closed-8/
CATEGORIES:Special Hours
END:VEVENT
BEGIN:VEVENT
DTSTART;VALUE=DATE:20230704
DTEND;VALUE=DATE:20230705
DTSTAMP:20260423T110742
CREATED:20230605T232800Z
LAST-MODIFIED:20230605T232800Z
UID:25795-1688428800-1688515199@sewingseedsquiltco.com
SUMMARY:Closed
DESCRIPTION:
URL:https://sewingseedsquiltco.com/event/closed-9/
CATEGORIES:Special Hours
END:VEVENT
BEGIN:VEVENT
DTSTART;VALUE=DATE:20230904
DTEND;VALUE=DATE:20230905
DTSTAMP:20260423T110742
CREATED:20230912T193810Z
LAST-MODIFIED:20230912T193810Z
UID:26020-1693785600-1693871999@sewingseedsquiltco.com
SUMMARY:Closed Labor Day
DESCRIPTION:
URL:https://sewingseedsquiltco.com/event/closed-labor-day-8/
CATEGORIES:Special Hours
END:VEVENT
BEGIN:VEVENT
DTSTART;VALUE=DATE:20230909
DTEND;VALUE=DATE:20230910
DTSTAMP:20260423T110742
CREATED:20230912T193845Z
LAST-MODIFIED:20230912T193845Z
UID:26022-1694217600-1694303999@sewingseedsquiltco.com
SUMMARY:Saturday Sampler 10:00 & 1:00
DESCRIPTION:
URL:https://sewingseedsquiltco.com/event/saturday-sampler-1000-100-15/
CATEGORIES:Club
END:VEVENT
BEGIN:VEVENT
DTSTART;TZID=America/Chicago:20230911T180000
DTEND;TZID=America/Chicago:20230911T190000
DTSTAMP:20260423T110742
CREATED:20230912T193925Z
LAST-MODIFIED:20230912T193925Z
UID:26024-1694455200-1694458800@sewingseedsquiltco.com
SUMMARY:Lockwood Manor BOM 6:00PM
DESCRIPTION:
URL:https://sewingseedsquiltco.com/event/lockwood-manor-bom-600pm/
CATEGORIES:BOM
END:VEVENT
BEGIN:VEVENT
DTSTART;TZID=America/Chicago:20230912T133000
DTEND;TZID=America/Chicago:20230912T143000
DTSTAMP:20260423T110742
CREATED:20230912T194000Z
LAST-MODIFIED:20230912T194000Z
UID:26026-1694525400-1694529000@sewingseedsquiltco.com
SUMMARY:Vintage Sampler BOM 1:30PM
DESCRIPTION:
URL:https://sewingseedsquiltco.com/event/vintage-sampler-bom-130pm/
CATEGORIES:BOM
END:VEVENT
BEGIN:VEVENT
DTSTART;TZID=America/Chicago:20230918T180000
DTEND;TZID=America/Chicago:20230918T190000
DTSTAMP:20260423T110742
CREATED:20230912T194045Z
LAST-MODIFIED:20230912T194045Z
UID:26028-1695060000-1695063600@sewingseedsquiltco.com
SUMMARY:Calico Garden BOM 6:00PM
DESCRIPTION:
URL:https://sewingseedsquiltco.com/event/calico-garden-bom-600pm/
CATEGORIES:BOM
END:VEVENT
BEGIN:VEVENT
DTSTART;VALUE=DATE:20230920
DTEND;VALUE=DATE:20230921
DTSTAMP:20260423T110742
CREATED:20230912T194157Z
LAST-MODIFIED:20230912T194157Z
UID:26032-1695168000-1695254399@sewingseedsquiltco.com
SUMMARY:Bag Sale 10AM-5PM
DESCRIPTION:
URL:https://sewingseedsquiltco.com/event/bag-sale-10am-5pm-7/
CATEGORIES:Sale
END:VEVENT
BEGIN:VEVENT
DTSTART;TZID=America/Chicago:20230920T133000
DTEND;TZID=America/Chicago:20230920T143000
DTSTAMP:20260423T110742
CREATED:20230912T194119Z
LAST-MODIFIED:20230912T194119Z
UID:26030-1695216600-1695220200@sewingseedsquiltco.com
SUMMARY:Arabella BOM 1:30PM
DESCRIPTION:
URL:https://sewingseedsquiltco.com/event/arabella-bom-130pm/
CATEGORIES:BOM
END:VEVENT
BEGIN:VEVENT
DTSTART;VALUE=DATE:20230922
DTEND;VALUE=DATE:20230925
DTSTAMP:20260423T110742
CREATED:20230912T194753Z
LAST-MODIFIED:20230912T194753Z
UID:26034-1695340800-1695599999@sewingseedsquiltco.com
SUMMARY:Fall Shop Hop / Bus Tour
DESCRIPTION:
URL:https://sewingseedsquiltco.com/event/fall-shop-hop-bus-tour/
CATEGORIES:Travel Opportunity
ATTACH;FMTTYPE=image/png:https://sewingseedsquiltco.com/wp-content/uploads/2023/09/Fall-2023-Quilting-Bus-Trip-Flyer.png
END:VEVENT
BEGIN:VEVENT
DTSTART;TZID=America/Chicago:20231002T180000
DTEND;TZID=America/Chicago:20231002T190000
DTSTAMP:20260423T110742
CREATED:20230912T194838Z
LAST-MODIFIED:20230912T194838Z
UID:26038-1696269600-1696273200@sewingseedsquiltco.com
SUMMARY:Sleighbells BOM 6:00PM
DESCRIPTION:
URL:https://sewingseedsquiltco.com/event/sleighbells-bom-600pm/
CATEGORIES:BOM
END:VEVENT
BEGIN:VEVENT
DTSTART;TZID=America/Chicago:20231009T180000
DTEND;TZID=America/Chicago:20231009T190000
DTSTAMP:20260423T110742
CREATED:20230912T194916Z
LAST-MODIFIED:20230912T194916Z
UID:26040-1696874400-1696878000@sewingseedsquiltco.com
SUMMARY:Lockwood Manor BOM 6:00PM
DESCRIPTION:
URL:https://sewingseedsquiltco.com/event/lockwood-manor-bom-600pm-2/
CATEGORIES:BOM
END:VEVENT
BEGIN:VEVENT
DTSTART;TZID=America/Chicago:20231010T133000
DTEND;TZID=America/Chicago:20231010T143000
DTSTAMP:20260423T110742
CREATED:20230912T195038Z
LAST-MODIFIED:20230912T195038Z
UID:26042-1696944600-1696948200@sewingseedsquiltco.com
SUMMARY:Vintage Sampler BOM 1:30PM
DESCRIPTION:
URL:https://sewingseedsquiltco.com/event/vintage-sampler-bom-130pm-2/
CATEGORIES:BOM
END:VEVENT
BEGIN:VEVENT
DTSTART;VALUE=DATE:20231014
DTEND;VALUE=DATE:20231015
DTSTAMP:20260423T110742
CREATED:20230912T195122Z
LAST-MODIFIED:20230912T195122Z
UID:26044-1697241600-1697327999@sewingseedsquiltco.com
SUMMARY:Saturday Sampler 10:00 & 1:00
DESCRIPTION:
URL:https://sewingseedsquiltco.com/event/saturday-sampler-1000-100-16/
CATEGORIES:Club
END:VEVENT
BEGIN:VEVENT
DTSTART;TZID=America/Chicago:20231016T180000
DTEND;TZID=America/Chicago:20231016T190000
DTSTAMP:20260423T110742
CREATED:20230912T195223Z
LAST-MODIFIED:20230912T195223Z
UID:26046-1697479200-1697482800@sewingseedsquiltco.com
SUMMARY:Calico Garden Sew Along 6:00
DESCRIPTION:
URL:https://sewingseedsquiltco.com/event/calico-garden-sew-along-600/
CATEGORIES:BOM
END:VEVENT
BEGIN:VEVENT
DTSTART;TZID=America/Chicago:20231018T133000
DTEND;TZID=America/Chicago:20231018T143000
DTSTAMP:20260423T110742
CREATED:20230912T195302Z
LAST-MODIFIED:20230912T195302Z
UID:26048-1697635800-1697639400@sewingseedsquiltco.com
SUMMARY:Arabella BOM 1:30
DESCRIPTION:
URL:https://sewingseedsquiltco.com/event/arabella-bom-130/
CATEGORIES:BOM
END:VEVENT
BEGIN:VEVENT
DTSTART;VALUE=DATE:20231020
DTEND;VALUE=DATE:20231021
DTSTAMP:20260423T110742
CREATED:20230912T195342Z
LAST-MODIFIED:20230912T195342Z
UID:26050-1697760000-1697846399@sewingseedsquiltco.com
SUMMARY:Bag Sale 10AM-5PM
DESCRIPTION:
URL:https://sewingseedsquiltco.com/event/bag-sale-10am-5pm-8/
CATEGORIES:Sale
END:VEVENT
BEGIN:VEVENT
DTSTART;VALUE=DATE:20231103
DTEND;VALUE=DATE:20231104
DTSTAMP:20260423T110742
CREATED:20231030T180359Z
LAST-MODIFIED:20231030T180751Z
UID:26221-1698969600-1699055999@sewingseedsquiltco.com
SUMMARY:NU Loyal to Local Event Begins
DESCRIPTION:
URL:https://sewingseedsquiltco.com/event/nu-loyal-to-local-begins/
CATEGORIES:Event
END:VEVENT
BEGIN:VEVENT
DTSTART;TZID=America/Chicago:20231106T180000
DTEND;TZID=America/Chicago:20231106T190000
DTSTAMP:20260423T110742
CREATED:20231030T174321Z
LAST-MODIFIED:20231030T180741Z
UID:26202-1699293600-1699297200@sewingseedsquiltco.com
SUMMARY:Sleighbells BOM
DESCRIPTION:
URL:https://sewingseedsquiltco.com/event/sleighbells-bom-600pm-2/
CATEGORIES:BOM
END:VEVENT
BEGIN:VEVENT
DTSTART;VALUE=DATE:20231109
DTEND;VALUE=DATE:20231112
DTSTAMP:20260423T110742
CREATED:20231030T174539Z
LAST-MODIFIED:20231030T174539Z
UID:26204-1699488000-1699747199@sewingseedsquiltco.com
SUMMARY:Hometown Holiday Road Trip
DESCRIPTION:
URL:https://sewingseedsquiltco.com/event/hometown-holiday-road-trip-10/
CATEGORIES:Event,Shop Hop,Special Hours
ATTACH;FMTTYPE=image/png:https://sewingseedsquiltco.com/wp-content/uploads/2023/10/Hometown-Holiday-Road-Trip-Flyer-2023.png
END:VEVENT
BEGIN:VEVENT
DTSTART;VALUE=DATE:20231111
DTEND;VALUE=DATE:20231112
DTSTAMP:20260423T110742
CREATED:20231030T174615Z
LAST-MODIFIED:20231030T174615Z
UID:26207-1699660800-1699747199@sewingseedsquiltco.com
SUMMARY:Saturday Sampler 10:00 & 1:00
DESCRIPTION:
URL:https://sewingseedsquiltco.com/event/saturday-sampler-1000-100-17/
CATEGORIES:Club
END:VEVENT
BEGIN:VEVENT
DTSTART;TZID=America/Chicago:20231113T180000
DTEND;TZID=America/Chicago:20231113T190000
DTSTAMP:20260423T110742
CREATED:20231030T174957Z
LAST-MODIFIED:20231030T180722Z
UID:26209-1699898400-1699902000@sewingseedsquiltco.com
SUMMARY:Lockwood Manor BOM
DESCRIPTION:
URL:https://sewingseedsquiltco.com/event/lockwood-manor-bom-600pm-3/
CATEGORIES:BOM
END:VEVENT
BEGIN:VEVENT
DTSTART;TZID=America/Chicago:20231114T133000
DTEND;TZID=America/Chicago:20231114T143000
DTSTAMP:20260423T110742
CREATED:20231030T175800Z
LAST-MODIFIED:20231030T180714Z
UID:26211-1699968600-1699972200@sewingseedsquiltco.com
SUMMARY:Vintage Sampler BOM
DESCRIPTION:
URL:https://sewingseedsquiltco.com/event/vintage-sampler-bom-130pm-3/
CATEGORIES:BOM
END:VEVENT
BEGIN:VEVENT
DTSTART;TZID=America/Chicago:20231120T100000
DTEND;TZID=America/Chicago:20231120T190000
DTSTAMP:20260423T110742
CREATED:20231030T180105Z
LAST-MODIFIED:20231030T180105Z
UID:26215-1700474400-1700506800@sewingseedsquiltco.com
SUMMARY:Bag Sale
DESCRIPTION:
URL:https://sewingseedsquiltco.com/event/bag-sale-78/
CATEGORIES:Sale
END:VEVENT
BEGIN:VEVENT
DTSTART;TZID=America/Chicago:20231120T180000
DTEND;TZID=America/Chicago:20231120T190000
DTSTAMP:20260423T110742
CREATED:20231030T180020Z
LAST-MODIFIED:20231030T180702Z
UID:26213-1700503200-1700506800@sewingseedsquiltco.com
SUMMARY:Calico Garden BOM
DESCRIPTION:
URL:https://sewingseedsquiltco.com/event/calico-garden-bom-600pm-2/
CATEGORIES:BOM
END:VEVENT
BEGIN:VEVENT
DTSTART;TZID=America/Chicago:20231122T133000
DTEND;TZID=America/Chicago:20231122T143000
DTSTAMP:20260423T110742
CREATED:20231030T180211Z
LAST-MODIFIED:20231030T180651Z
UID:26217-1700659800-1700663400@sewingseedsquiltco.com
SUMMARY:Arabella BOM
DESCRIPTION:
URL:https://sewingseedsquiltco.com/event/arabella-bom-130pm-2/
CATEGORIES:BOM
END:VEVENT
BEGIN:VEVENT
DTSTART;VALUE=DATE:20231123
DTEND;VALUE=DATE:20231124
DTSTAMP:20260423T110742
CREATED:20231030T180305Z
LAST-MODIFIED:20231127T175205Z
UID:26219-1700697600-1700783999@sewingseedsquiltco.com
SUMMARY:Closed Thanksgiving Day
DESCRIPTION:
URL:https://sewingseedsquiltco.com/event/closed-thanksgiving-day-9/
CATEGORIES:Special Hours
ATTACH;FMTTYPE=image/png:https://sewingseedsquiltco.com/wp-content/uploads/2023/11/Holiday-Store-Hours.png
END:VEVENT
BEGIN:VEVENT
DTSTART;VALUE=DATE:20231125
DTEND;VALUE=DATE:20231126
DTSTAMP:20260423T110742
CREATED:20231030T180435Z
LAST-MODIFIED:20231030T180632Z
UID:26223-1700870400-1700956799@sewingseedsquiltco.com
SUMMARY:NU Loyal to Local Event Ends
DESCRIPTION:
URL:https://sewingseedsquiltco.com/event/nu-loyal-to-local-ends/
CATEGORIES:Event
END:VEVENT
END:VCALENDAR