BEGIN:VCALENDAR
VERSION:2.0
PRODID:-//Sewing Seeds Quilt Co. - ECPv6.15.20//NONSGML v1.0//EN
CALSCALE:GREGORIAN
METHOD:PUBLISH
X-WR-CALNAME:Sewing Seeds Quilt Co.
X-ORIGINAL-URL:https://sewingseedsquiltco.com
X-WR-CALDESC:Events for Sewing Seeds Quilt Co.
REFRESH-INTERVAL;VALUE=DURATION:PT1H
X-Robots-Tag:noindex
X-PUBLISHED-TTL:PT1H
BEGIN:VTIMEZONE
TZID:America/Chicago
BEGIN:DAYLIGHT
TZOFFSETFROM:-0600
TZOFFSETTO:-0500
TZNAME:CDT
DTSTART:20230312T080000
END:DAYLIGHT
BEGIN:STANDARD
TZOFFSETFROM:-0500
TZOFFSETTO:-0600
TZNAME:CST
DTSTART:20231105T070000
END:STANDARD
BEGIN:DAYLIGHT
TZOFFSETFROM:-0600
TZOFFSETTO:-0500
TZNAME:CDT
DTSTART:20240310T080000
END:DAYLIGHT
BEGIN:STANDARD
TZOFFSETFROM:-0500
TZOFFSETTO:-0600
TZNAME:CST
DTSTART:20241103T070000
END:STANDARD
BEGIN:DAYLIGHT
TZOFFSETFROM:-0600
TZOFFSETTO:-0500
TZNAME:CDT
DTSTART:20250309T080000
END:DAYLIGHT
BEGIN:STANDARD
TZOFFSETFROM:-0500
TZOFFSETTO:-0600
TZNAME:CST
DTSTART:20251102T070000
END:STANDARD
BEGIN:DAYLIGHT
TZOFFSETFROM:-0600
TZOFFSETTO:-0500
TZNAME:CDT
DTSTART:20260308T080000
END:DAYLIGHT
BEGIN:STANDARD
TZOFFSETFROM:-0500
TZOFFSETTO:-0600
TZNAME:CST
DTSTART:20261101T070000
END:STANDARD
END:VTIMEZONE
BEGIN:VEVENT
DTSTART;TZID=America/Chicago:20241126T090000
DTEND;TZID=America/Chicago:20241126T120000
DTSTAMP:20260423T145702
CREATED:20240812T202713Z
LAST-MODIFIED:20240812T202713Z
UID:28250-1732611600-1732622400@sewingseedsquiltco.com
SUMMARY:Bag Maker's Club
DESCRIPTION:
URL:https://sewingseedsquiltco.com/event/bag-makers-club-6/
CATEGORIES:Class
END:VEVENT
BEGIN:VEVENT
DTSTART;TZID=America/Chicago:20241127T133000
DTEND;TZID=America/Chicago:20241127T143000
DTSTAMP:20260423T145702
CREATED:20240812T203023Z
LAST-MODIFIED:20240812T203023Z
UID:28256-1732714200-1732717800@sewingseedsquiltco.com
SUMMARY:Piecemaker's Sampler BOM
DESCRIPTION:
URL:https://sewingseedsquiltco.com/event/piecemakers-sampler-bom-7/
CATEGORIES:BOM
END:VEVENT
BEGIN:VEVENT
DTSTART;VALUE=DATE:20241128
DTEND;VALUE=DATE:20241129
DTSTAMP:20260423T145702
CREATED:20240812T202821Z
LAST-MODIFIED:20240812T202821Z
UID:28252-1732752000-1732838399@sewingseedsquiltco.com
SUMMARY:Closed Thanksgiving Day
DESCRIPTION:
URL:https://sewingseedsquiltco.com/event/closed-thanksgiving-day-10/
CATEGORIES:Special Hours
END:VEVENT
BEGIN:VEVENT
DTSTART;VALUE=DATE:20241214
DTEND;VALUE=DATE:20241215
DTSTAMP:20260423T145702
CREATED:20240909T204624Z
LAST-MODIFIED:20240909T204624Z
UID:28358-1734134400-1734220799@sewingseedsquiltco.com
SUMMARY:Saturday Sampler 10:00AM & 1:00PM
DESCRIPTION:
URL:https://sewingseedsquiltco.com/event/saturday-sampler-1000am-100pm-9/
CATEGORIES:Club
END:VEVENT
BEGIN:VEVENT
DTSTART;TZID=America/Chicago:20241216T180000
DTEND;TZID=America/Chicago:20241216T190000
DTSTAMP:20260423T145702
CREATED:20240909T204519Z
LAST-MODIFIED:20240909T204519Z
UID:28356-1734372000-1734375600@sewingseedsquiltco.com
SUMMARY:Let's Make a Snowman
DESCRIPTION:
URL:https://sewingseedsquiltco.com/event/lets-make-a-snowman/
CATEGORIES:BOM
END:VEVENT
BEGIN:VEVENT
DTSTART;TZID=America/Chicago:20241217T090000
DTEND;TZID=America/Chicago:20241217T120000
DTSTAMP:20260423T145702
CREATED:20240909T205436Z
LAST-MODIFIED:20240909T205436Z
UID:28368-1734426000-1734436800@sewingseedsquiltco.com
SUMMARY:Bag Maker's Club
DESCRIPTION:
URL:https://sewingseedsquiltco.com/event/bag-makers-club-7/
CATEGORIES:Class
END:VEVENT
BEGIN:VEVENT
DTSTART;TZID=America/Chicago:20241218T133000
DTEND;TZID=America/Chicago:20241218T143000
DTSTAMP:20260423T145702
CREATED:20240909T204701Z
LAST-MODIFIED:20240909T204701Z
UID:28360-1734528600-1734532200@sewingseedsquiltco.com
SUMMARY:Wind Song BOM
DESCRIPTION:
URL:https://sewingseedsquiltco.com/event/wind-song-bom-4/
CATEGORIES:BOM
END:VEVENT
BEGIN:VEVENT
DTSTART;TZID=America/Chicago:20241220T100000
DTEND;TZID=America/Chicago:20241220T170000
DTSTAMP:20260423T145702
CREATED:20240909T204730Z
LAST-MODIFIED:20240909T204730Z
UID:28362-1734688800-1734714000@sewingseedsquiltco.com
SUMMARY:Bag Sale
DESCRIPTION:
URL:https://sewingseedsquiltco.com/event/bag-sale-90/
CATEGORIES:Sale
END:VEVENT
BEGIN:VEVENT
DTSTART;VALUE=DATE:20241223
DTEND;VALUE=DATE:20241226
DTSTAMP:20260423T145702
CREATED:20240909T205039Z
LAST-MODIFIED:20240909T205039Z
UID:28364-1734912000-1735171199@sewingseedsquiltco.com
SUMMARY:Closed for Christmas
DESCRIPTION:
URL:https://sewingseedsquiltco.com/event/closed-for-christmas/
CATEGORIES:Special Hours
END:VEVENT
BEGIN:VEVENT
DTSTART;VALUE=DATE:20241230
DTEND;VALUE=DATE:20241231
DTSTAMP:20260423T145702
CREATED:20241216T231319Z
LAST-MODIFIED:20241216T231319Z
UID:28578-1735516800-1735603199@sewingseedsquiltco.com
SUMMARY:Closing at 5:00PM
DESCRIPTION:
URL:https://sewingseedsquiltco.com/event/closing-at-500pm-2/
CATEGORIES:Special Hours
END:VEVENT
BEGIN:VEVENT
DTSTART;VALUE=DATE:20241231
DTEND;VALUE=DATE:20250101
DTSTAMP:20260423T145702
CREATED:20240909T205125Z
LAST-MODIFIED:20240909T205125Z
UID:28366-1735603200-1735689599@sewingseedsquiltco.com
SUMMARY:Closing at 3:00PM
DESCRIPTION:
URL:https://sewingseedsquiltco.com/event/closing-at-300pm/
CATEGORIES:Special Hours
END:VEVENT
BEGIN:VEVENT
DTSTART;VALUE=DATE:20250101
DTEND;VALUE=DATE:20250102
DTSTAMP:20260423T145702
CREATED:20240909T205746Z
LAST-MODIFIED:20240909T205746Z
UID:28376-1735689600-1735775999@sewingseedsquiltco.com
SUMMARY:Closed New Year's Day
DESCRIPTION:
URL:https://sewingseedsquiltco.com/event/closed-new-years-day-8/
CATEGORIES:Special Hours
END:VEVENT
BEGIN:VEVENT
DTSTART;TZID=America/Chicago:20250104T090000
DTEND;TZID=America/Chicago:20250104T120000
DTSTAMP:20260423T145702
CREATED:20241021T200830Z
LAST-MODIFIED:20241021T201154Z
UID:28444-1735981200-1735992000@sewingseedsquiltco.com
SUMMARY:Punch Needle Class
DESCRIPTION:Learn the basics of Punch Needle with this introductory class! \nAnna Geiger will be your instructor providing experienced\, hands-on learning.  Class Fee is $15 and the Class Kit is $44 which includes the pattern\, pre-printed weaver’s cloth and Smart Punch Needle.  An additional supply list will be provided at the time of registration. \nCall 507-354-8801 to register!
URL:https://sewingseedsquiltco.com/event/punch-needle-class-9am-noon-2/
CATEGORIES:Class
ATTACH;FMTTYPE=image/png:https://sewingseedsquiltco.com/wp-content/uploads/2024/10/Punch-Needle-Class-Jan-2025.png
END:VEVENT
BEGIN:VEVENT
DTSTART;VALUE=DATE:20250111
DTEND;VALUE=DATE:20250112
DTSTAMP:20260423T145702
CREATED:20240909T205550Z
LAST-MODIFIED:20240909T205550Z
UID:28372-1736553600-1736639999@sewingseedsquiltco.com
SUMMARY:Sewing for Sight Event
DESCRIPTION:
URL:https://sewingseedsquiltco.com/event/sewing-for-sight-event-4/
CATEGORIES:Event
END:VEVENT
BEGIN:VEVENT
DTSTART;TZID=America/Chicago:20250120T100000
DTEND;TZID=America/Chicago:20250120T190000
DTSTAMP:20260423T145702
CREATED:20240909T205855Z
LAST-MODIFIED:20240909T205855Z
UID:28380-1737367200-1737399600@sewingseedsquiltco.com
SUMMARY:Bag Sale
DESCRIPTION:
URL:https://sewingseedsquiltco.com/event/bag-sale-91/
CATEGORIES:Sale
END:VEVENT
BEGIN:VEVENT
DTSTART;TZID=America/Chicago:20250120T180000
DTEND;TZID=America/Chicago:20250120T190000
DTSTAMP:20260423T145702
CREATED:20240909T205824Z
LAST-MODIFIED:20240909T205824Z
UID:28378-1737396000-1737399600@sewingseedsquiltco.com
SUMMARY:Let's Make a Snowman
DESCRIPTION:
URL:https://sewingseedsquiltco.com/event/lets-make-a-snowman-2/
CATEGORIES:BOM
END:VEVENT
BEGIN:VEVENT
DTSTART;TZID=America/Chicago:20250121T090000
DTEND;TZID=America/Chicago:20250121T120000
DTSTAMP:20260423T145702
CREATED:20240909T205512Z
LAST-MODIFIED:20240909T205512Z
UID:28370-1737450000-1737460800@sewingseedsquiltco.com
SUMMARY:Bag Maker's Club
DESCRIPTION:
URL:https://sewingseedsquiltco.com/event/bag-makers-club-8/
CATEGORIES:Class
END:VEVENT
BEGIN:VEVENT
DTSTART;TZID=America/Chicago:20250122T133000
DTEND;TZID=America/Chicago:20250122T143000
DTSTAMP:20260423T145702
CREATED:20240909T205934Z
LAST-MODIFIED:20240909T205934Z
UID:28382-1737552600-1737556200@sewingseedsquiltco.com
SUMMARY:Piecemaker's Sampler
DESCRIPTION:
URL:https://sewingseedsquiltco.com/event/piecemakers-sampler/
CATEGORIES:BOM
END:VEVENT
BEGIN:VEVENT
DTSTART;VALUE=DATE:20250127
DTEND;VALUE=DATE:20250202
DTSTAMP:20260423T145702
CREATED:20240909T205657Z
LAST-MODIFIED:20250121T152137Z
UID:28374-1737936000-1738454399@sewingseedsquiltco.com
SUMMARY:12-Year Anniversary Event
DESCRIPTION:
URL:https://sewingseedsquiltco.com/event/12-year-anniversary-event/
CATEGORIES:Event,Sale
ATTACH;FMTTYPE=application/pdf:https://sewingseedsquiltco.com/wp-content/uploads/2024/09/Anniversary-Ad-2025.pdf
END:VEVENT
BEGIN:VEVENT
DTSTART;VALUE=DATE:20250208
DTEND;VALUE=DATE:20250209
DTSTAMP:20260423T145702
CREATED:20241221T195837Z
LAST-MODIFIED:20241221T195837Z
UID:28588-1738972800-1739059199@sewingseedsquiltco.com
SUMMARY:Saturday Sampler 10:00 & 1:00
DESCRIPTION:
URL:https://sewingseedsquiltco.com/event/saturday-sampler-1000-100-25/
CATEGORIES:Club
END:VEVENT
BEGIN:VEVENT
DTSTART;TZID=America/Chicago:20250217T180000
DTEND;TZID=America/Chicago:20250217T190000
DTSTAMP:20260423T145702
CREATED:20241221T195939Z
LAST-MODIFIED:20241221T195939Z
UID:28590-1739815200-1739818800@sewingseedsquiltco.com
SUMMARY:Let's Make a Snowman
DESCRIPTION:
URL:https://sewingseedsquiltco.com/event/lets-make-a-snowman-3/
CATEGORIES:BOM
END:VEVENT
BEGIN:VEVENT
DTSTART;VALUE=DATE:20250220
DTEND;VALUE=DATE:20250221
DTSTAMP:20260423T145702
CREATED:20241221T200049Z
LAST-MODIFIED:20241221T200049Z
UID:28594-1740009600-1740095999@sewingseedsquiltco.com
SUMMARY:Bag Sale 10AM-5PM
DESCRIPTION:
URL:https://sewingseedsquiltco.com/event/bag-sale-10am-5pm-9/
CATEGORIES:Sale
END:VEVENT
BEGIN:VEVENT
DTSTART;TZID=America/Chicago:20250220T133000
DTEND;TZID=America/Chicago:20250220T143000
DTSTAMP:20260423T145702
CREATED:20241221T200018Z
LAST-MODIFIED:20250218T220521Z
UID:28592-1740058200-1740061800@sewingseedsquiltco.com
SUMMARY:Scatter Garden BOM
DESCRIPTION:featuring the Scrap Basket Favorite Collection by Kim Diehl for Henry Glass Fabrics \nincludes pattern\, fabric for quilt top and binding \nfinished size 66.5″ x 66.5″ \ncall 507-354-8801 for additional BOM information \n 
URL:https://sewingseedsquiltco.com/event/scatter-garden-bom/
CATEGORIES:BOM
ATTACH;FMTTYPE=image/webp:https://sewingseedsquiltco.com/wp-content/uploads/2024/12/scatter-garden.webp
END:VEVENT
BEGIN:VEVENT
DTSTART;VALUE=DATE:20250224
DTEND;VALUE=DATE:20250225
DTSTAMP:20260423T145702
CREATED:20250218T205946Z
LAST-MODIFIED:20250218T210228Z
UID:28894-1740355200-1740441599@sewingseedsquiltco.com
SUMMARY:Enchanted Garden Wool BOM 1:30-2:30PM & 6:00-7:00PM
DESCRIPTION:
URL:https://sewingseedsquiltco.com/event/enchanted-garden-wool-bom-130pm-600pm/
CATEGORIES:BOM
END:VEVENT
BEGIN:VEVENT
DTSTART;TZID=America/Chicago:20250225T090000
DTEND;TZID=America/Chicago:20250225T120000
DTSTAMP:20260423T145702
CREATED:20250218T210102Z
LAST-MODIFIED:20250218T210102Z
UID:28896-1740474000-1740484800@sewingseedsquiltco.com
SUMMARY:Bag Maker's Class
DESCRIPTION:
URL:https://sewingseedsquiltco.com/event/bag-makers-class/
CATEGORIES:Class
END:VEVENT
BEGIN:VEVENT
DTSTART;VALUE=DATE:20250308
DTEND;VALUE=DATE:20250309
DTSTAMP:20260423T145702
CREATED:20250218T210649Z
LAST-MODIFIED:20250218T210649Z
UID:28900-1741392000-1741478399@sewingseedsquiltco.com
SUMMARY:Saturday Sampler 10:00AM & 1:00PM
DESCRIPTION:
URL:https://sewingseedsquiltco.com/event/saturday-sampler-1000am-100pm-10/
CATEGORIES:BOM
END:VEVENT
BEGIN:VEVENT
DTSTART;VALUE=DATE:20250309
DTEND;VALUE=DATE:20250314
DTSTAMP:20260423T145702
CREATED:20250125T212113Z
LAST-MODIFIED:20250204T194630Z
UID:28657-1741478400-1741910399@sewingseedsquiltco.com
SUMMARY:Quilt Retreat at NU's Best Western Plus
DESCRIPTION:Join us for a Sewing Seeds Quilt Company retreat at the Best Western Plus in New Ulm! \nView Retreat Brochure here for complete details
URL:https://sewingseedsquiltco.com/event/quilt-retreat-at-nus-best-western-plus/
ATTACH;FMTTYPE=image/png:https://sewingseedsquiltco.com/wp-content/uploads/2025/01/Quilt-Retreat-Flyer-2025-web.png
END:VEVENT
BEGIN:VEVENT
DTSTART;TZID=America/Chicago:20250317T180000
DTEND;TZID=America/Chicago:20250317T190000
DTSTAMP:20260423T145702
CREATED:20250218T210730Z
LAST-MODIFIED:20250218T210730Z
UID:28902-1742234400-1742238000@sewingseedsquiltco.com
SUMMARY:Flower Basket Sampler Sew Along
DESCRIPTION:
URL:https://sewingseedsquiltco.com/event/flower-basket-sampler-sew-along/
CATEGORIES:BOM
END:VEVENT
BEGIN:VEVENT
DTSTART;TZID=America/Chicago:20250320T100000
DTEND;TZID=America/Chicago:20250320T170000
DTSTAMP:20260423T145702
CREATED:20250218T210757Z
LAST-MODIFIED:20250218T210757Z
UID:28904-1742464800-1742490000@sewingseedsquiltco.com
SUMMARY:Bag Sale
DESCRIPTION:
URL:https://sewingseedsquiltco.com/event/bag-sale-92/
CATEGORIES:Sale
END:VEVENT
BEGIN:VEVENT
DTSTART;TZID=America/Chicago:20250320T133000
DTEND;TZID=America/Chicago:20250320T143000
DTSTAMP:20260423T145702
CREATED:20250218T210830Z
LAST-MODIFIED:20250218T220554Z
UID:28906-1742477400-1742481000@sewingseedsquiltco.com
SUMMARY:Scatter Garden BOM
DESCRIPTION:featuring the Scrap Basket Favorite Collection by Kim Diehl for Henry Glass Fabrics \nincludes pattern\, fabric for quilt top and binding \nfinished size 66.5″ x 66.5″ \ncall 507-354-8801 for additional BOM information
URL:https://sewingseedsquiltco.com/event/scatter-garden-bom-2/
CATEGORIES:BOM
ATTACH;FMTTYPE=image/webp:https://sewingseedsquiltco.com/wp-content/uploads/2024/12/scatter-garden.webp
END:VEVENT
END:VCALENDAR