BEGIN:VCALENDAR
VERSION:2.0
PRODID:-//Sewing Seeds Quilt Co. - ECPv6.15.20//NONSGML v1.0//EN
CALSCALE:GREGORIAN
METHOD:PUBLISH
X-WR-CALNAME:Sewing Seeds Quilt Co.
X-ORIGINAL-URL:https://sewingseedsquiltco.com
X-WR-CALDESC:Events for Sewing Seeds Quilt Co.
REFRESH-INTERVAL;VALUE=DURATION:PT1H
X-Robots-Tag:noindex
X-PUBLISHED-TTL:PT1H
BEGIN:VTIMEZONE
TZID:America/Chicago
BEGIN:DAYLIGHT
TZOFFSETFROM:-0600
TZOFFSETTO:-0500
TZNAME:CDT
DTSTART:20220313T080000
END:DAYLIGHT
BEGIN:STANDARD
TZOFFSETFROM:-0500
TZOFFSETTO:-0600
TZNAME:CST
DTSTART:20221106T070000
END:STANDARD
BEGIN:DAYLIGHT
TZOFFSETFROM:-0600
TZOFFSETTO:-0500
TZNAME:CDT
DTSTART:20230312T080000
END:DAYLIGHT
BEGIN:STANDARD
TZOFFSETFROM:-0500
TZOFFSETTO:-0600
TZNAME:CST
DTSTART:20231105T070000
END:STANDARD
BEGIN:DAYLIGHT
TZOFFSETFROM:-0600
TZOFFSETTO:-0500
TZNAME:CDT
DTSTART:20240310T080000
END:DAYLIGHT
BEGIN:STANDARD
TZOFFSETFROM:-0500
TZOFFSETTO:-0600
TZNAME:CST
DTSTART:20241103T070000
END:STANDARD
BEGIN:DAYLIGHT
TZOFFSETFROM:-0600
TZOFFSETTO:-0500
TZNAME:CDT
DTSTART:20250309T080000
END:DAYLIGHT
BEGIN:STANDARD
TZOFFSETFROM:-0500
TZOFFSETTO:-0600
TZNAME:CST
DTSTART:20251102T070000
END:STANDARD
END:VTIMEZONE
BEGIN:VEVENT
DTSTART;VALUE=DATE:20231125
DTEND;VALUE=DATE:20231126
DTSTAMP:20260423T172451
CREATED:20231030T180506Z
LAST-MODIFIED:20231030T180506Z
UID:26225-1700870400-1700956799@sewingseedsquiltco.com
SUMMARY:Small Business Saturday
DESCRIPTION:
URL:https://sewingseedsquiltco.com/event/small-business-saturday-3/
CATEGORIES:Event
END:VEVENT
BEGIN:VEVENT
DTSTART;VALUE=DATE:20231127
DTEND;VALUE=DATE:20231128
DTSTAMP:20260423T172451
CREATED:20231127T173706Z
LAST-MODIFIED:20231127T174553Z
UID:26446-1701043200-1701129599@sewingseedsquiltco.com
SUMMARY:Closing @ 5PM
DESCRIPTION:
URL:https://sewingseedsquiltco.com/event/closing-5pm/
CATEGORIES:Special Hours
ATTACH;FMTTYPE=image/png:https://sewingseedsquiltco.com/wp-content/uploads/2023/11/Holiday-Store-Hours.png
END:VEVENT
BEGIN:VEVENT
DTSTART;TZID=America/Chicago:20231129T090000
DTEND;TZID=America/Chicago:20231129T170000
DTSTAMP:20260423T172451
CREATED:20231116T181311Z
LAST-MODIFIED:20231116T181311Z
UID:26381-1701248400-1701277200@sewingseedsquiltco.com
SUMMARY:Holiday Hop Shop Hop
DESCRIPTION:
URL:https://sewingseedsquiltco.com/event/holiday-hop-shop-hop/
CATEGORIES:Event,Shop Hop,Special Hours
ATTACH;FMTTYPE=application/pdf:https://sewingseedsquiltco.com/wp-content/uploads/2023/11/Holiday-Hop-2023-Poster.pdf
END:VEVENT
BEGIN:VEVENT
DTSTART;TZID=America/Chicago:20231130T090000
DTEND;TZID=America/Chicago:20231130T170000
DTSTAMP:20260423T172451
CREATED:20231116T181424Z
LAST-MODIFIED:20231116T181424Z
UID:26384-1701334800-1701363600@sewingseedsquiltco.com
SUMMARY:Holiday Hop Shop Hop
DESCRIPTION:
URL:https://sewingseedsquiltco.com/event/holiday-hop-shop-hop-2/
CATEGORIES:Event,Shop Hop,Special Hours
ATTACH;FMTTYPE=application/pdf:https://sewingseedsquiltco.com/wp-content/uploads/2023/11/Holiday-Hop-2023-Poster-1.pdf
END:VEVENT
BEGIN:VEVENT
DTSTART;TZID=America/Chicago:20231201T090000
DTEND;TZID=America/Chicago:20231201T170000
DTSTAMP:20260423T172451
CREATED:20231116T181533Z
LAST-MODIFIED:20231116T181533Z
UID:26387-1701421200-1701450000@sewingseedsquiltco.com
SUMMARY:Holiday Hop Shop Hop
DESCRIPTION:
URL:https://sewingseedsquiltco.com/event/holiday-hop-shop-hop-3/
CATEGORIES:Event,Shop Hop,Special Hours
ATTACH;FMTTYPE=application/pdf:https://sewingseedsquiltco.com/wp-content/uploads/2023/11/Holiday-Hop-2023-Poster-2.pdf
END:VEVENT
BEGIN:VEVENT
DTSTART;TZID=America/Chicago:20231202T090000
DTEND;TZID=America/Chicago:20231202T160000
DTSTAMP:20260423T172451
CREATED:20231116T181944Z
LAST-MODIFIED:20231116T181944Z
UID:26390-1701507600-1701532800@sewingseedsquiltco.com
SUMMARY:Holiday Hop Shop Hop
DESCRIPTION:
URL:https://sewingseedsquiltco.com/event/holiday-hop-shop-hop-4/
CATEGORIES:Event,Shop Hop,Special Hours
ATTACH;FMTTYPE=application/pdf:https://sewingseedsquiltco.com/wp-content/uploads/2023/11/Holiday-Hop-2023-Poster-3.pdf
END:VEVENT
BEGIN:VEVENT
DTSTART;VALUE=DATE:20231204
DTEND;VALUE=DATE:20231205
DTSTAMP:20260423T172451
CREATED:20231127T173738Z
LAST-MODIFIED:20231127T174653Z
UID:26448-1701648000-1701734399@sewingseedsquiltco.com
SUMMARY:Closing @ 5PM
DESCRIPTION:
URL:https://sewingseedsquiltco.com/event/closing-5pm-2/
CATEGORIES:Special Hours
ATTACH;FMTTYPE=image/png:https://sewingseedsquiltco.com/wp-content/uploads/2023/11/Holiday-Store-Hours.png
END:VEVENT
BEGIN:VEVENT
DTSTART;TZID=America/Chicago:20231207T160000
DTEND;TZID=America/Chicago:20231207T200000
DTSTAMP:20260423T172451
CREATED:20231030T190845Z
LAST-MODIFIED:20231030T190845Z
UID:26234-1701964800-1701979200@sewingseedsquiltco.com
SUMMARY:Shop NU at Night Event
DESCRIPTION:
URL:https://sewingseedsquiltco.com/event/shop-nu-at-night-event/
CATEGORIES:Event
END:VEVENT
BEGIN:VEVENT
DTSTART;VALUE=DATE:20231209
DTEND;VALUE=DATE:20231210
DTSTAMP:20260423T172451
CREATED:20231030T191057Z
LAST-MODIFIED:20231030T191057Z
UID:26236-1702080000-1702166399@sewingseedsquiltco.com
SUMMARY:Saturday Sampler 10:00 & 1:00
DESCRIPTION:
URL:https://sewingseedsquiltco.com/event/saturday-sampler-1000-100-18/
CATEGORIES:Club
END:VEVENT
BEGIN:VEVENT
DTSTART;TZID=America/Chicago:20231211T180000
DTEND;TZID=America/Chicago:20231211T190000
DTSTAMP:20260423T172451
CREATED:20231030T192549Z
LAST-MODIFIED:20231030T192549Z
UID:26238-1702317600-1702321200@sewingseedsquiltco.com
SUMMARY:Lockwood Manor BOM
DESCRIPTION:
URL:https://sewingseedsquiltco.com/event/lockwood-manor-bom-4/
CATEGORIES:BOM
END:VEVENT
BEGIN:VEVENT
DTSTART;TZID=America/Chicago:20231212T133000
DTEND;TZID=America/Chicago:20231212T143000
DTSTAMP:20260423T172451
CREATED:20231030T192631Z
LAST-MODIFIED:20231030T192631Z
UID:26240-1702387800-1702391400@sewingseedsquiltco.com
SUMMARY:Vintage Sampler BOM
DESCRIPTION:
URL:https://sewingseedsquiltco.com/event/vintage-sampler-bom-3/
CATEGORIES:BOM
END:VEVENT
BEGIN:VEVENT
DTSTART;VALUE=DATE:20231218
DTEND;VALUE=DATE:20231219
DTSTAMP:20260423T172451
CREATED:20231127T173816Z
LAST-MODIFIED:20231127T174729Z
UID:26450-1702857600-1702943999@sewingseedsquiltco.com
SUMMARY:Closing @ 5PM
DESCRIPTION:
URL:https://sewingseedsquiltco.com/event/closing-5pm-3/
CATEGORIES:Special Hours
ATTACH;FMTTYPE=image/png:https://sewingseedsquiltco.com/wp-content/uploads/2023/11/Holiday-Store-Hours.png
END:VEVENT
BEGIN:VEVENT
DTSTART;TZID=America/Chicago:20231220T100000
DTEND;TZID=America/Chicago:20231220T170000
DTSTAMP:20260423T172451
CREATED:20231030T192922Z
LAST-MODIFIED:20231030T192922Z
UID:26244-1703066400-1703091600@sewingseedsquiltco.com
SUMMARY:Bag Sale
DESCRIPTION:
URL:https://sewingseedsquiltco.com/event/bag-sale-79/
CATEGORIES:Sale
END:VEVENT
BEGIN:VEVENT
DTSTART;TZID=America/Chicago:20231220T133000
DTEND;TZID=America/Chicago:20231220T143000
DTSTAMP:20260423T172451
CREATED:20231030T192851Z
LAST-MODIFIED:20231030T192851Z
UID:26242-1703079000-1703082600@sewingseedsquiltco.com
SUMMARY:Arabella BOM
DESCRIPTION:
URL:https://sewingseedsquiltco.com/event/arabella-bom-4/
CATEGORIES:BOM
END:VEVENT
BEGIN:VEVENT
DTSTART;VALUE=DATE:20231223
DTEND;VALUE=DATE:20231224
DTSTAMP:20260423T172451
CREATED:20231030T195535Z
LAST-MODIFIED:20231127T174813Z
UID:26256-1703289600-1703375999@sewingseedsquiltco.com
SUMMARY:Closed
DESCRIPTION:
URL:https://sewingseedsquiltco.com/event/closed-10/
CATEGORIES:Special Hours
ATTACH;FMTTYPE=image/png:https://sewingseedsquiltco.com/wp-content/uploads/2023/11/Holiday-Store-Hours.png
END:VEVENT
BEGIN:VEVENT
DTSTART;VALUE=DATE:20231225
DTEND;VALUE=DATE:20231226
DTSTAMP:20260423T172451
CREATED:20231030T193001Z
LAST-MODIFIED:20231127T174847Z
UID:26246-1703462400-1703548799@sewingseedsquiltco.com
SUMMARY:Closed Christmas Day
DESCRIPTION:
URL:https://sewingseedsquiltco.com/event/closed-christmas-day-7/
CATEGORIES:Special Hours
ATTACH;FMTTYPE=image/png:https://sewingseedsquiltco.com/wp-content/uploads/2023/11/Holiday-Store-Hours.png
END:VEVENT
BEGIN:VEVENT
DTSTART;VALUE=DATE:20240101
DTEND;VALUE=DATE:20240102
DTSTAMP:20260423T172451
CREATED:20231030T193139Z
LAST-MODIFIED:20231127T174918Z
UID:26250-1704067200-1704153599@sewingseedsquiltco.com
SUMMARY:Closed New Year's Day
DESCRIPTION:
URL:https://sewingseedsquiltco.com/event/closed-new-years-day-7/
CATEGORIES:Special Hours
ATTACH;FMTTYPE=image/png:https://sewingseedsquiltco.com/wp-content/uploads/2023/11/Holiday-Store-Hours.png
END:VEVENT
BEGIN:VEVENT
DTSTART;VALUE=DATE:20240108
DTEND;VALUE=DATE:20240109
DTSTAMP:20260423T172451
CREATED:20231127T174058Z
LAST-MODIFIED:20231127T174953Z
UID:26452-1704672000-1704758399@sewingseedsquiltco.com
SUMMARY:Closing @ 5PM
DESCRIPTION:
URL:https://sewingseedsquiltco.com/event/closing-5pm-4/
CATEGORIES:Special Hours
ATTACH;FMTTYPE=image/png:https://sewingseedsquiltco.com/wp-content/uploads/2023/11/Holiday-Store-Hours.png
END:VEVENT
BEGIN:VEVENT
DTSTART;TZID=America/Chicago:20240109T133000
DTEND;TZID=America/Chicago:20240109T143000
DTSTAMP:20260423T172451
CREATED:20240108T181415Z
LAST-MODIFIED:20240108T185913Z
UID:26683-1704807000-1704810600@sewingseedsquiltco.com
SUMMARY:Vintage Sampler BOM
DESCRIPTION:
URL:https://sewingseedsquiltco.com/event/vintage-sampler-bom-130/
CATEGORIES:BOM
END:VEVENT
BEGIN:VEVENT
DTSTART;VALUE=DATE:20240113
DTEND;VALUE=DATE:20240114
DTSTAMP:20260423T172451
CREATED:20231030T193106Z
LAST-MODIFIED:20231030T193106Z
UID:26248-1705104000-1705190399@sewingseedsquiltco.com
SUMMARY:Sewing for Sight Event
DESCRIPTION:
URL:https://sewingseedsquiltco.com/event/sewing-for-sight-event-3/
CATEGORIES:Event
END:VEVENT
BEGIN:VEVENT
DTSTART;VALUE=DATE:20240115
DTEND;VALUE=DATE:20240116
DTSTAMP:20260423T172451
CREATED:20231127T174134Z
LAST-MODIFIED:20231127T175025Z
UID:26454-1705276800-1705363199@sewingseedsquiltco.com
SUMMARY:Closing @ 5PM
DESCRIPTION:
URL:https://sewingseedsquiltco.com/event/closing-5pm-5/
CATEGORIES:Special Hours
ATTACH;FMTTYPE=image/png:https://sewingseedsquiltco.com/wp-content/uploads/2023/11/Holiday-Store-Hours.png
END:VEVENT
BEGIN:VEVENT
DTSTART;TZID=America/Chicago:20240120T100000
DTEND;TZID=America/Chicago:20240120T160000
DTSTAMP:20260423T172451
CREATED:20231030T193448Z
LAST-MODIFIED:20231030T193448Z
UID:26254-1705744800-1705766400@sewingseedsquiltco.com
SUMMARY:Bag Sale
DESCRIPTION:
URL:https://sewingseedsquiltco.com/event/bag-sale-80/
CATEGORIES:Sale
END:VEVENT
BEGIN:VEVENT
DTSTART;VALUE=DATE:20240122
DTEND;VALUE=DATE:20240123
DTSTAMP:20260423T172451
CREATED:20231127T174200Z
LAST-MODIFIED:20231127T175129Z
UID:26456-1705881600-1705967999@sewingseedsquiltco.com
SUMMARY:Closing @ 5PM
DESCRIPTION:
URL:https://sewingseedsquiltco.com/event/closing-5pm-6/
CATEGORIES:Special Hours
ATTACH;FMTTYPE=image/png:https://sewingseedsquiltco.com/wp-content/uploads/2023/11/Holiday-Store-Hours.png
END:VEVENT
BEGIN:VEVENT
DTSTART;VALUE=DATE:20240129
DTEND;VALUE=DATE:20240204
DTSTAMP:20260423T172451
CREATED:20231030T193348Z
LAST-MODIFIED:20240122T230154Z
UID:26252-1706486400-1707004799@sewingseedsquiltco.com
SUMMARY:11 Year Anniversary Event
DESCRIPTION:
URL:https://sewingseedsquiltco.com/event/11-year-anniversary-event/
CATEGORIES:Event,Sale
ATTACH;FMTTYPE=application/pdf:https://sewingseedsquiltco.com/wp-content/uploads/2023/10/Anniversary-Ad-2024.pdf
END:VEVENT
BEGIN:VEVENT
DTSTART;VALUE=DATE:20240210
DTEND;VALUE=DATE:20240211
DTSTAMP:20260423T172451
CREATED:20240108T182057Z
LAST-MODIFIED:20240108T185836Z
UID:26691-1707523200-1707609599@sewingseedsquiltco.com
SUMMARY:Saturday Sampler 10:00AM & 1:00PM
DESCRIPTION:
URL:https://sewingseedsquiltco.com/event/saturday-sampler-1000-100-19/
CATEGORIES:Club
ATTACH;FMTTYPE=image/jpeg:https://sewingseedsquiltco.com/wp-content/uploads/2024/01/Chatsworth-Christmas-Colorway.jpg
END:VEVENT
BEGIN:VEVENT
DTSTART;TZID=America/Chicago:20240212T180000
DTEND;TZID=America/Chicago:20240212T190000
DTSTAMP:20260423T172451
CREATED:20240108T181658Z
LAST-MODIFIED:20240108T185823Z
UID:26685-1707760800-1707764400@sewingseedsquiltco.com
SUMMARY:Twilight Garden Embroidery BOM
DESCRIPTION:
URL:https://sewingseedsquiltco.com/event/twilight-garden-embroidery-bom-600pm/
CATEGORIES:BOM
ATTACH;FMTTYPE=image/jpeg:https://sewingseedsquiltco.com/wp-content/uploads/2024/01/Twilight-Garden-BOM-Crabapple-Hill.jpg
END:VEVENT
BEGIN:VEVENT
DTSTART;TZID=America/Chicago:20240215T133000
DTEND;TZID=America/Chicago:20240215T143000
DTSTAMP:20260423T172451
CREATED:20240108T182329Z
LAST-MODIFIED:20240108T190359Z
UID:26694-1708003800-1708007400@sewingseedsquiltco.com
SUMMARY:Brimming Over BOM
DESCRIPTION:
URL:https://sewingseedsquiltco.com/event/brimming-over-bom/
CATEGORIES:BOM
ATTACH;FMTTYPE=image/jpeg:https://sewingseedsquiltco.com/wp-content/uploads/2024/01/brimming-over-quilt-plan.jpg
END:VEVENT
BEGIN:VEVENT
DTSTART;TZID=America/Chicago:20240220T100000
DTEND;TZID=America/Chicago:20240220T170000
DTSTAMP:20260423T172451
CREATED:20240108T182403Z
LAST-MODIFIED:20240108T182403Z
UID:26697-1708423200-1708448400@sewingseedsquiltco.com
SUMMARY:Bag Sale
DESCRIPTION:
URL:https://sewingseedsquiltco.com/event/bag-sale-81/
CATEGORIES:Sale
END:VEVENT
BEGIN:VEVENT
DTSTART;TZID=America/Chicago:20240226T180000
DTEND;TZID=America/Chicago:20240226T190000
DTSTAMP:20260423T172451
CREATED:20240108T183837Z
LAST-MODIFIED:20240108T185756Z
UID:26699-1708970400-1708974000@sewingseedsquiltco.com
SUMMARY:Mary Katherine's Pride Wool BOM
DESCRIPTION:
URL:https://sewingseedsquiltco.com/event/mary-katherines-pride-wool-bom/
CATEGORIES:BOM
END:VEVENT
BEGIN:VEVENT
DTSTART;TZID=America/Chicago:20240228T133000
DTEND;TZID=America/Chicago:20240228T143000
DTSTAMP:20260423T172451
CREATED:20240108T181948Z
LAST-MODIFIED:20240126T211217Z
UID:26688-1709127000-1709130600@sewingseedsquiltco.com
SUMMARY:Piecemaker's Sampler BOM
DESCRIPTION:
URL:https://sewingseedsquiltco.com/event/piecemakers-sampler-bom-130pm/
CATEGORIES:BOM
ATTACH;FMTTYPE=image/jpeg:https://sewingseedsquiltco.com/wp-content/uploads/2024/01/Piecemakers-Sampler-Quilt.jpg
END:VEVENT
END:VCALENDAR